BEGIN:VCALENDAR
VERSION:2.0
PRODID:-//Mein Mosel - ECPv6.15.20//NONSGML v1.0//EN
CALSCALE:GREGORIAN
METHOD:PUBLISH
X-WR-CALNAME:Mein Mosel
X-ORIGINAL-URL:https://mein-mosel.de
X-WR-CALDESC:Veranstaltungen für Mein Mosel
REFRESH-INTERVAL;VALUE=DURATION:PT1H
X-Robots-Tag:noindex
X-PUBLISHED-TTL:PT1H
BEGIN:VTIMEZONE
TZID:Europe/Berlin
BEGIN:DAYLIGHT
TZOFFSETFROM:+0100
TZOFFSETTO:+0200
TZNAME:CEST
DTSTART:20240331T010000
END:DAYLIGHT
BEGIN:STANDARD
TZOFFSETFROM:+0200
TZOFFSETTO:+0100
TZNAME:CET
DTSTART:20241027T010000
END:STANDARD
BEGIN:DAYLIGHT
TZOFFSETFROM:+0100
TZOFFSETTO:+0200
TZNAME:CEST
DTSTART:20250330T010000
END:DAYLIGHT
BEGIN:STANDARD
TZOFFSETFROM:+0200
TZOFFSETTO:+0100
TZNAME:CET
DTSTART:20251026T010000
END:STANDARD
BEGIN:DAYLIGHT
TZOFFSETFROM:+0100
TZOFFSETTO:+0200
TZNAME:CEST
DTSTART:20260329T010000
END:DAYLIGHT
BEGIN:STANDARD
TZOFFSETFROM:+0200
TZOFFSETTO:+0100
TZNAME:CET
DTSTART:20261025T010000
END:STANDARD
BEGIN:DAYLIGHT
TZOFFSETFROM:+0100
TZOFFSETTO:+0200
TZNAME:CEST
DTSTART:20270328T010000
END:DAYLIGHT
BEGIN:STANDARD
TZOFFSETFROM:+0200
TZOFFSETTO:+0100
TZNAME:CET
DTSTART:20271031T010000
END:STANDARD
END:VTIMEZONE
BEGIN:VEVENT
DTSTART;TZID=Europe/Berlin:20251201T180000
DTEND;TZID=Europe/Berlin:20260106T220000
DTSTAMP:20260422T072941
CREATED:20251125T080044Z
LAST-MODIFIED:20251202T154334Z
UID:5649-1764612000-1767736800@mein-mosel.de
SUMMARY:Das Mein Mosel e. V. Weihnachtsfenster - zum Staunen für Groß und Klein
DESCRIPTION:18
URL:https://mein-mosel.de/event/das-mein-mosel-e-v-weihnachtsfenster-zum-staunen-fuer-gross-und-klein-2/
LOCATION:Kreuzung Altenburger Straße\, Glauchauer Str. 1\, Zwickau\, 08058\, Deutschland
ATTACH;FMTTYPE=image/jpeg:https://mein-mosel.de/wp-content/uploads/2025/12/25-12-01-Weihnachtsfenster.jpg
ORGANIZER;CN="Mein Mosel e. V.":MAILTO:silviakern.mosel@t-online.de
END:VEVENT
BEGIN:VEVENT
DTSTART;TZID=Europe/Berlin:20251202T150000
DTEND;TZID=Europe/Berlin:20251202T170000
DTSTAMP:20260422T072941
CREATED:20251118T170030Z
LAST-MODIFIED:20251202T152128Z
UID:5636-1764687600-1764694800@mein-mosel.de
SUMMARY:Advent in der Bücherei
DESCRIPTION:
URL:https://mein-mosel.de/event/advent-in-der-buecherei/
LOCATION:Rathaus Mosel\, Dänkritzer Straße 21\, Mosel
ATTACH;FMTTYPE=image/jpeg:https://mein-mosel.de/wp-content/uploads/2025/12/25-12-02-Buecherei.jpg
END:VEVENT
BEGIN:VEVENT
DTSTART;TZID=Europe/Berlin:20251203T190000
DTEND;TZID=Europe/Berlin:20251203T210000
DTSTAMP:20260422T072941
CREATED:20251126T170047Z
LAST-MODIFIED:20251202T155205Z
UID:5652-1764788400-1764795600@mein-mosel.de
SUMMARY:Weihnachtskegeln für Jedermann
DESCRIPTION:
URL:https://mein-mosel.de/event/weihnachtskegeln-fuer-jedermann/
LOCATION:Sporthalle Mosel\, Altenburger Straße 71\, Zwickau\, Sachsen\, 08058\, Deutschland
ATTACH;FMTTYPE=image/jpeg:https://mein-mosel.de/wp-content/uploads/2025/12/25-12-03-Weihnachtskegeln.jpg
END:VEVENT
BEGIN:VEVENT
DTSTART;TZID=Europe/Berlin:20251203T200000
DTEND;TZID=Europe/Berlin:20251203T210000
DTSTAMP:20260422T072941
CREATED:20251129T170035Z
LAST-MODIFIED:20251202T155930Z
UID:5658-1764792000-1764795600@mein-mosel.de
SUMMARY:Adventstraining mit den Powerfrauen
DESCRIPTION:
URL:https://mein-mosel.de/event/adventstraining-mit-den-powerfrauen/
LOCATION:Sporthalle Mosel\, Altenburger Straße 71\, Zwickau\, Sachsen\, 08058\, Deutschland
ATTACH;FMTTYPE=image/jpeg:https://mein-mosel.de/wp-content/uploads/2025/12/25-12-03-Powerfrauen.jpg
END:VEVENT
BEGIN:VEVENT
DTSTART;TZID=Europe/Berlin:20251204T090000
DTEND;TZID=Europe/Berlin:20251204T100000
DTSTAMP:20260422T072941
CREATED:20251202T161214Z
LAST-MODIFIED:20251202T203529Z
UID:5666-1764838800-1764842400@mein-mosel.de
SUMMARY:"Geistig Fit im Alter" - Hirngymnastik mit Spaß
DESCRIPTION:
URL:https://mein-mosel.de/event/geistig-fit-im-alter-hirngymnastik-mit-spass/
LOCATION:Postweg 1 A\, Postweg 1 A\, Zwickau\, 08058
ATTACH;FMTTYPE=image/jpeg:https://mein-mosel.de/wp-content/uploads/2025/12/25-12-04-Geistig-Fit-im-Alter.jpg
END:VEVENT
BEGIN:VEVENT
DTSTART;TZID=Europe/Berlin:20251205T180000
DTEND;TZID=Europe/Berlin:20251205T200000
DTSTAMP:20260422T072941
CREATED:20251202T161853Z
LAST-MODIFIED:20251202T204109Z
UID:5669-1764957600-1764964800@mein-mosel.de
SUMMARY:Adventsbasteln für alle\, die Lust dazu haben
DESCRIPTION:
URL:https://mein-mosel.de/event/adventsbasteln-fuer-alle-die-lust-dazu-haben-2/
LOCATION:Pfarrhaus Mosel\, Dänkritzer Straße 26\, Zwickau OT Mosel\, 08058
ATTACH;FMTTYPE=image/jpeg:https://mein-mosel.de/wp-content/uploads/2025/12/25-12-05-Bastelabend.jpg
END:VEVENT
BEGIN:VEVENT
DTSTART;TZID=Europe/Berlin:20251206T100000
DTEND;TZID=Europe/Berlin:20260104T180000
DTSTAMP:20260422T072941
CREATED:20251203T170003Z
LAST-MODIFIED:20260104T104214Z
UID:5671-1765015200-1767549600@mein-mosel.de
SUMMARY:Das Moseler Modelleisenbahnfenster
DESCRIPTION:
URL:https://mein-mosel.de/event/das-moseler-modelleisenbahnfenster/
ATTACH;FMTTYPE=image/jpeg:https://mein-mosel.de/wp-content/uploads/2025/12/25-12-06-Eisenbahnfenster.jpg
END:VEVENT
BEGIN:VEVENT
DTSTART;TZID=Europe/Berlin:20251206T140000
DTEND;TZID=Europe/Berlin:20251206T170000
DTSTAMP:20260422T072941
CREATED:20251202T210259Z
LAST-MODIFIED:20251202T210259Z
UID:5696-1765029600-1765040400@mein-mosel.de
SUMMARY:Wunschzettelbriefkasten und Bastelstand auf dem Weihnachtsmarkt der Feuerwehr Mosel
DESCRIPTION:
URL:https://mein-mosel.de/event/wunschzettelbriefkasten-und-bastelstand-auf-dem-weihnachtsmarkt-der-feuerwehr-mosel/
LOCATION:Freiwillige Feuerwehr Mosel\, Dänkritzer Straße 23\, Zwickau OT Mosel\, Sachsen\, 08058\, Germany
ATTACH;FMTTYPE=application/pdf:https://mein-mosel.de/wp-content/uploads/2025/12/25-12-06-Wunschzettelbriefkasten-Bastelstand.pdf
ORGANIZER;CN="Mein Mosel e. V.":MAILTO:silviakern.mosel@t-online.de
END:VEVENT
BEGIN:VEVENT
DTSTART;TZID=Europe/Berlin:20251206T140000
DTEND;TZID=Europe/Berlin:20251206T200000
DTSTAMP:20260422T072941
CREATED:20251128T090026Z
LAST-MODIFIED:20251202T210442Z
UID:5663-1765029600-1765051200@mein-mosel.de
SUMMARY:Weihnachtsmarkt der Feuerwehr Mosel
DESCRIPTION:
URL:https://mein-mosel.de/event/weihnachtsmarkt-an-der-feuerwehr-mosel/
LOCATION:Freiwillige Feuerwehr Mosel\, Dänkritzer Straße 23\, Zwickau OT Mosel\, Sachsen\, 08058\, Germany
ATTACH;FMTTYPE=image/jpeg:https://mein-mosel.de/wp-content/uploads/2025/12/25-12-06-Weihnachtsmarkt-Feuerwehr-Mosel.jpg
END:VEVENT
BEGIN:VEVENT
DTSTART;TZID=Europe/Berlin:20251207T090000
DTEND;TZID=Europe/Berlin:20251207T130000
DTSTAMP:20260422T072941
CREATED:20251202T195958Z
LAST-MODIFIED:20251205T174055Z
UID:5673-1765098000-1765112400@mein-mosel.de
SUMMARY:Winterturnier des SV 1946 Mosel e. V. - D-Junioren
DESCRIPTION:
URL:https://mein-mosel.de/event/winterturnier-des-sv-1946-mosel-e-v-d-junioren/
LOCATION:Sporthalle Mosel\, Altenburger Straße 71\, Zwickau\, Sachsen\, 08058\, Deutschland
ATTACH;FMTTYPE=image/jpeg:https://mein-mosel.de/wp-content/uploads/2025/12/25-12-07-46er-Hallencup.jpg
END:VEVENT
BEGIN:VEVENT
DTSTART;TZID=Europe/Berlin:20251207T140000
DTEND;TZID=Europe/Berlin:20251207T180000
DTSTAMP:20260422T072941
CREATED:20251202T200305Z
LAST-MODIFIED:20251205T173947Z
UID:5675-1765116000-1765130400@mein-mosel.de
SUMMARY:Winterturnier des SV 1946 Mosel e. V. - E-Junioren
DESCRIPTION:
URL:https://mein-mosel.de/event/winterturnier-des-sv-1946-mosel-e-v-e-junioren/
LOCATION:Sporthalle Mosel\, Altenburger Straße 71\, Zwickau\, Sachsen\, 08058\, Deutschland
ATTACH;FMTTYPE=image/jpeg:https://mein-mosel.de/wp-content/uploads/2025/12/25-12-07-46er-Hallencup.jpg
END:VEVENT
BEGIN:VEVENT
DTSTART;TZID=Europe/Berlin:20251210T140000
DTEND;TZID=Europe/Berlin:20251210T160000
DTSTAMP:20260422T072941
CREATED:20251126T170038Z
LAST-MODIFIED:20251202T155455Z
UID:5655-1765375200-1765382400@mein-mosel.de
SUMMARY:Weihnachtskegeln für Familien
DESCRIPTION:
URL:https://mein-mosel.de/event/weihnachtskegeln-fuer-familien/
LOCATION:Sporthalle Mosel\, Altenburger Straße 71\, Zwickau\, Sachsen\, 08058\, Deutschland
ATTACH;FMTTYPE=image/jpeg:https://mein-mosel.de/wp-content/uploads/2025/12/25-12-10-Familienkegeln.jpg
END:VEVENT
BEGIN:VEVENT
DTSTART;TZID=Europe/Berlin:20251210T200000
DTEND;TZID=Europe/Berlin:20251210T210000
DTSTAMP:20260422T072941
CREATED:20251129T170057Z
LAST-MODIFIED:20251202T160158Z
UID:5661-1765396800-1765400400@mein-mosel.de
SUMMARY:Adventstraining mit den Powerfrauen
DESCRIPTION:29
URL:https://mein-mosel.de/event/adventstraining-mit-den-powerfrauen-2/
LOCATION:Sporthalle Mosel\, Altenburger Straße 71\, Zwickau\, Sachsen\, 08058\, Deutschland
ATTACH;FMTTYPE=image/jpeg:https://mein-mosel.de/wp-content/uploads/2025/12/25-12-03-Powerfrauen.jpg
END:VEVENT
BEGIN:VEVENT
DTSTART;TZID=Europe/Berlin:20251211T150000
DTEND;TZID=Europe/Berlin:20251211T170000
DTSTAMP:20260422T072941
CREATED:20251202T201043Z
LAST-MODIFIED:20251202T205310Z
UID:5677-1765465200-1765472400@mein-mosel.de
SUMMARY:Hutzennachmittag mit den LandFrauen
DESCRIPTION:
URL:https://mein-mosel.de/event/hutzennachmittag-mit-den-landfrauen-2/
LOCATION:Rathaus Mosel\, Dänkritzer Straße 21\, Mosel
ATTACH;FMTTYPE=application/pdf:https://mein-mosel.de/wp-content/uploads/2025/12/25-12-11-Hutzennachmittag.pdf
ORGANIZER;CN="Mein Mosel e. V.":MAILTO:silviakern.mosel@t-online.de
END:VEVENT
BEGIN:VEVENT
DTSTART;TZID=Europe/Berlin:20251212T180000
DTEND;TZID=Europe/Berlin:20251212T220000
DTSTAMP:20260422T072941
CREATED:20251202T201456Z
LAST-MODIFIED:20251202T201456Z
UID:5679-1765562400-1765576800@mein-mosel.de
SUMMARY:Filmnacht bei Goldi's - TV Klassiker "Kevin allein zu Haus"
DESCRIPTION:
URL:https://mein-mosel.de/event/filmnacht-bei-goldis-tv-klassiker-kevin-allein-zu-haus/
LOCATION:Bachweg 66 A\, 08058 Zwickau\, Bachweg 66 A\, Zwickau\, 08058
END:VEVENT
BEGIN:VEVENT
DTSTART;TZID=Europe/Berlin:20251213T100000
DTEND;TZID=Europe/Berlin:20251213T120000
DTSTAMP:20260422T072941
CREATED:20251202T201955Z
LAST-MODIFIED:20251205T174239Z
UID:5682-1765620000-1765627200@mein-mosel.de
SUMMARY:Weihnachtsyoga mit Yvonne - für alle Interessierten
DESCRIPTION:
URL:https://mein-mosel.de/event/weihnachtsyoga-mit-yvonne-fuer-alle-interessierten/
LOCATION:Postweg 1 A\, Postweg 1 A\, Zwickau\, 08058
ATTACH;FMTTYPE=image/jpeg:https://mein-mosel.de/wp-content/uploads/2025/12/25-12-13-AdventsYoga.jpg
END:VEVENT
BEGIN:VEVENT
DTSTART;TZID=Europe/Berlin:20251214T140000
DTEND;TZID=Europe/Berlin:20251214T160000
DTSTAMP:20260422T072941
CREATED:20251202T202206Z
LAST-MODIFIED:20251205T174420Z
UID:5685-1765720800-1765728000@mein-mosel.de
SUMMARY:Kirchturmbesteigung
DESCRIPTION:
URL:https://mein-mosel.de/event/kirchturmbesteigung/
LOCATION:Kirche Mosel\, Kirchweg 1\, Mosel\, 08058
ATTACH;FMTTYPE=image/jpeg:https://mein-mosel.de/wp-content/uploads/2025/12/25-12-14-Kirchturmbesteigung.jpg
END:VEVENT
BEGIN:VEVENT
DTSTART;TZID=Europe/Berlin:20251214T160000
DTEND;TZID=Europe/Berlin:20251214T180000
DTSTAMP:20260422T072941
CREATED:20251214T070022Z
LAST-MODIFIED:20251214T104252Z
UID:5713-1765728000-1765735200@mein-mosel.de
SUMMARY:Rollstuhlbaskettball - 1. Bundesliga
DESCRIPTION:Am 3. Advent wird’s im Biestbau so richtig weihnachtlich 🎄🔥 \n  \nWir empfangen die Doneck Dolphins aus Trier zum offiziellen Weihnachtsspieltag – Rollstuhlbasketball auf höchstem Niveau trifft auf festlichen Budenzauber: \n  \n✨ bester Stollen aus dem Hause Bäckerei Reinhold Weißenborn \n🍷 feiner Glühwein & Leckeres aus den heimischen Backstuben \n🌭 heiße Bratwürste & Steaks frisch vom Grill \n🎧 Stimmung satt mit DJ La Forge \n  \nPräsentiert wird der Spieltag von unserem langjährigen Partner eins – energie in Sachsen. \n  \nKeine Ausreden\, Leute: Der EINTRITT IST FREI! \n📍 Sporthalle Mosel \n⏰ Hochball: 16:00 Uhr \n  \nPackt Familie\, Freund:innen und Fanclub ein – lasst uns den Biestbau zum 3. Advent gemeinsam zum Beben bringen! 💙💚🛞
URL:https://mein-mosel.de/event/rollstuhlbaskettball-1-bundesliga/
LOCATION:Sporthalle Mosel\, Altenburger Straße 71\, Zwickau\, Sachsen\, 08058\, Deutschland
ATTACH;FMTTYPE=image/jpeg:https://mein-mosel.de/wp-content/uploads/2025/12/RBBL1-25-12-14.jpg
END:VEVENT
BEGIN:VEVENT
DTSTART;TZID=Europe/Berlin:20251214T163000
DTEND;TZID=Europe/Berlin:20251214T180000
DTSTAMP:20260422T072941
CREATED:20251202T202524Z
LAST-MODIFIED:20251202T202524Z
UID:5687-1765729800-1765735200@mein-mosel.de
SUMMARY:Musikalischer Advents-Gottesdienst mit Weihnachtsliedersingen und anschließendem Glühweinausschank
DESCRIPTION:
URL:https://mein-mosel.de/event/musikalischer-advents-gottesdienst-mit-weihnachtsliedersingen-und-anschliessendem-gluehweinausschank/
LOCATION:Kirche Mosel\, Kirchweg 1\, Mosel\, 08058
END:VEVENT
BEGIN:VEVENT
DTSTART;TZID=Europe/Berlin:20251218T140000
DTEND;TZID=Europe/Berlin:20251218T170000
DTSTAMP:20260422T072941
CREATED:20251202T202801Z
LAST-MODIFIED:20251202T202801Z
UID:5689-1766066400-1766077200@mein-mosel.de
SUMMARY:Weihnachtsmarkt Schule Mosel
DESCRIPTION:
URL:https://mein-mosel.de/event/weihnachtsmarkt-schule-mosel/
LOCATION:Schule Mosel\, Platz der Einheit 1\, Zwickau OT Mosel\, 08058
ATTACH;FMTTYPE=image/jpeg:https://mein-mosel.de/wp-content/uploads/2025/12/25-12-18-Weihnachtsmarkt-Schule-Mosel.jpg
END:VEVENT
BEGIN:VEVENT
DTSTART;TZID=Europe/Berlin:20251218T170000
DTEND;TZID=Europe/Berlin:20251218T200000
DTSTAMP:20260422T072941
CREATED:20251214T104847Z
LAST-MODIFIED:20251214T104847Z
UID:5716-1766077200-1766088000@mein-mosel.de
SUMMARY:Gemütlicher Advents-Umtrunk im Rittergut Ober-Mosel
DESCRIPTION:
URL:https://mein-mosel.de/event/gemuetlicher-advents-umtrunk-im-rittergut-ober-mosel/
LOCATION:Rittergut Ober-Mosel\, Dänkritzer Straße 32\, Zwickau\, 08058
ATTACH;FMTTYPE=image/jpeg:https://mein-mosel.de/wp-content/uploads/2025/12/25-12-18-Advents-Umtrunk-Ober-Mosel.jpg
END:VEVENT
BEGIN:VEVENT
DTSTART;TZID=Europe/Berlin:20251220T190000
DTEND;TZID=Europe/Berlin:20251221T010000
DTSTAMP:20260422T072941
CREATED:20251111T180255Z
LAST-MODIFIED:20251220T010129Z
UID:5593-1766257200-1766278800@mein-mosel.de
SUMMARY:Mosel tanzt - Rentier Remmidemmi Edition
DESCRIPTION:Tanz in der Sporthalle\, geht denn das? Na klar\, der Mein Mosel e. V. gestaltet für euch die Sporthalle zu einer Tanzlocation um\, natürlich entsprechend unserem Moto „Mosel tanzt – Rentier Remmidemmi Editon“ \nWir freuen uns auf euch. \nEinlass 19:00 Uhr \nBeginn 20:00 Uhr \nDJ Paul Dyfran \nFür das leibliche Wohl ist bestens gesorgt. \nAbendkasse: 10\,00 € \nKartenvorverkauf: 8\,00 € \nbei Potential Design Zwickau – Dänkritzer Str. 17 (Eingang über Altenburger Str.) – 08058 Zwickau OT Mosel \nÖffnungszeiten: \nMontag\, Mittwoch\, Freitag: 15:00 Uhr bis 19:00 Uhr \nDienstag\, Donnerstag: 9:00 Uhr bis 12:00 Uhr \nSamstag: 9:00 Uhr bis 11:00 Uhr \noder unter Mein Mosel e.V. | Vshop24.de – Ihr Vereinsshop \nDu bist Ü14 bis U18 und möchtest ohne deine Erziehungsberechtigen unsere Veranstaltung besuchen\, dann „Muttizettel“ nicht vergessen! \nMuttizettel
URL:https://mein-mosel.de/event/rentier-remmidemmi/
LOCATION:Sporthalle Mosel\, Altenburger Straße 71\, Zwickau\, Sachsen\, 08058\, Deutschland
CATEGORIES:Veranstaltung
ATTACH;FMTTYPE=application/pdf:https://mein-mosel.de/wp-content/uploads/2025/11/rentier-remmidemmi-Rueckseite.pdf
ORGANIZER;CN="Mein Mosel e. V.":MAILTO:silviakern.mosel@t-online.de
END:VEVENT
BEGIN:VEVENT
DTSTART;TZID=Europe/Berlin:20251224T160000
DTEND;TZID=Europe/Berlin:20251224T170000
DTSTAMP:20260422T072941
CREATED:20251202T203248Z
LAST-MODIFIED:20251202T213008Z
UID:5692-1766592000-1766595600@mein-mosel.de
SUMMARY:Christvesper
DESCRIPTION:
URL:https://mein-mosel.de/event/christvesper/
LOCATION:Kirche Mosel\, Kirchweg 1\, Mosel\, 08058
END:VEVENT
END:VCALENDAR