BEGIN:VCALENDAR
VERSION:2.0
PRODID:-//Mein Mosel - ECPv6.15.20//NONSGML v1.0//EN
CALSCALE:GREGORIAN
METHOD:PUBLISH
X-WR-CALNAME:Mein Mosel
X-ORIGINAL-URL:https://mein-mosel.de
X-WR-CALDESC:Veranstaltungen für Mein Mosel
REFRESH-INTERVAL;VALUE=DURATION:PT1H
X-Robots-Tag:noindex
X-PUBLISHED-TTL:PT1H
BEGIN:VTIMEZONE
TZID:Europe/Berlin
BEGIN:DAYLIGHT
TZOFFSETFROM:+0100
TZOFFSETTO:+0200
TZNAME:CEST
DTSTART:20240331T010000
END:DAYLIGHT
BEGIN:STANDARD
TZOFFSETFROM:+0200
TZOFFSETTO:+0100
TZNAME:CET
DTSTART:20241027T010000
END:STANDARD
BEGIN:DAYLIGHT
TZOFFSETFROM:+0100
TZOFFSETTO:+0200
TZNAME:CEST
DTSTART:20250330T010000
END:DAYLIGHT
BEGIN:STANDARD
TZOFFSETFROM:+0200
TZOFFSETTO:+0100
TZNAME:CET
DTSTART:20251026T010000
END:STANDARD
BEGIN:DAYLIGHT
TZOFFSETFROM:+0100
TZOFFSETTO:+0200
TZNAME:CEST
DTSTART:20260329T010000
END:DAYLIGHT
BEGIN:STANDARD
TZOFFSETFROM:+0200
TZOFFSETTO:+0100
TZNAME:CET
DTSTART:20261025T010000
END:STANDARD
END:VTIMEZONE
BEGIN:VEVENT
DTSTART;TZID=Europe/Berlin:20251115T180000
DTEND;TZID=Europe/Berlin:20251115T200000
DTSTAMP:20260422T060211
CREATED:20251110T140129Z
LAST-MODIFIED:20251114T141129Z
UID:5607-1763229600-1763236800@mein-mosel.de
SUMMARY:Pulled Pork Burger zur Saisoneröffnung Rollstuhlbasketball 1. Bundesliga
DESCRIPTION:Samstag gibt’s vom Mein Mosel e. V. leckere Pulled Pork Burger in der Sporthalle Mosel. \nDie Rollstuhlbasketball-Saison geht wieder los\, jetzt in der 1. Bundesliga. > ALLE Spiele Freier Eintritt <  \nKommt vorbei\, schaut das spannende Spiel an und lasst euch das Pulled Pork schmecken. \nWir freuen uns auf Euch!
URL:https://mein-mosel.de/event/pulled-pork-burger-zur-saisoneroeffnung-rollstuhlbasketball-1-bundesliga/
LOCATION:Sporthalle Mosel\, Altenburger Straße 71\, Zwickau\, Sachsen\, 08058\, Deutschland
ATTACH;FMTTYPE=application/pdf:https://mein-mosel.de/wp-content/uploads/2025/11/2025-11-15-Pulled-Pork-Flyer.pdf
END:VEVENT
BEGIN:VEVENT
DTSTART;TZID=Europe/Berlin:20251116T100000
DTEND;TZID=Europe/Berlin:20251116T160000
DTSTAMP:20260422T060211
CREATED:20251022T075326Z
LAST-MODIFIED:20251026T014259Z
UID:5556-1763287200-1763308800@mein-mosel.de
SUMMARY:Skatturnier
DESCRIPTION:Hallo liebe Skatfreunde\, \nwir möchten euch ganz herzlich am Sonntag\, den 16. November 2025 um 10 Uhr im Sportlerheim des SV 1946 Mosel e. V. zu unserem Mein Mosel e.V.-Skatturnier einladen. \nKleine Speisen und Getränke können gegen Entgelt direkt vor Ort erworben werden. \nVoraussetzung für die Teilnahme ist die Zahlung einer Nenngebühr von 5 Euro. \nDie Teilnehmeranzahl ist auf 32 Personen begrenzt. \nDie Online-Anmeldung ist ab Sonntag\, den 26.10.2025 – 10:00 Uhr freigeschalten. \nWir freuen uns auf euch. \n  \nReservierung wird nur bei Angabe des vollständigen Namen berücksichtigt! \nBei Anmeldung von weiteren Personen bitte jeweils eine eigene Anmeldung mit Spielername abschicken.
URL:https://mein-mosel.de/event/skatturnier-4/
LOCATION:Sportplatz Mosel\, Hopfenweg 2\, Zwickau OT Mosel\, 08058
ATTACH;FMTTYPE=application/pdf:https://mein-mosel.de/wp-content/uploads/2025/10/Flyer.pdf
ORGANIZER;CN="Mein Mosel e. V.":MAILTO:silviakern.mosel@t-online.de
END:VEVENT
BEGIN:VEVENT
DTSTART;TZID=Europe/Berlin:20251125T160000
DTEND;TZID=Europe/Berlin:20251125T180000
DTSTAMP:20260422T060211
CREATED:20251114T141954Z
LAST-MODIFIED:20251114T141954Z
UID:5610-1764086400-1764093600@mein-mosel.de
SUMMARY:Weihnachtsmarkt Kita Schatzinsel
DESCRIPTION:
URL:https://mein-mosel.de/event/weihnachtsmarkt-kita-schatzinsel/
LOCATION:Integrative Kindertageseinrichtung „Schatzinsel“\, Karl-Kippenhahn-Straße 47\, Zwickau OT Mosel\, 08058
ATTACH;FMTTYPE=application/pdf:https://mein-mosel.de/wp-content/uploads/2025/11/2025-11-25-Kita-Weihnachtsmarkt.pdf
END:VEVENT
BEGIN:VEVENT
DTSTART;TZID=Europe/Berlin:20251129T093000
DTEND;TZID=Europe/Berlin:20251129T173000
DTSTAMP:20260422T060211
CREATED:20251118T170026Z
LAST-MODIFIED:20251202T152648Z
UID:5640-1764408600-1764437400@mein-mosel.de
SUMMARY:Advent in der Bücherei
DESCRIPTION:
URL:https://mein-mosel.de/event/advent-in-der-buecherei-2/
LOCATION:Rathaus Mosel\, Dänkritzer Straße 21\, Mosel
ATTACH;FMTTYPE=image/jpeg:https://mein-mosel.de/wp-content/uploads/2025/12/25-12-02-Buecherei.jpg
END:VEVENT
BEGIN:VEVENT
DTSTART;TZID=Europe/Berlin:20251129T140000
DTEND;TZID=Europe/Berlin:20251129T150000
DTSTAMP:20260422T060211
CREATED:20251125T170051Z
LAST-MODIFIED:20251202T070233Z
UID:5628-1764424800-1764428400@mein-mosel.de
SUMMARY:Pyramidenandrehen
DESCRIPTION:
URL:https://mein-mosel.de/event/pyramidenandrehen-2/
LOCATION:Kreuzung Altenburger/Glauchauer Straße\, Zwickau OT Mosel
ATTACH;FMTTYPE=image/jpeg:https://mein-mosel.de/wp-content/uploads/2025/12/25-11-29-Pyramidenandrehen.jpg
ORGANIZER;CN="Ortschaftsrat Mosel":MAILTO:melanie.braendel@zwickau.de
END:VEVENT
BEGIN:VEVENT
DTSTART;TZID=Europe/Berlin:20251130T100000
DTEND;TZID=Europe/Berlin:20251130T130000
DTSTAMP:20260422T060211
CREATED:20251125T190022Z
LAST-MODIFIED:20251202T070848Z
UID:5631-1764496800-1764507600@mein-mosel.de
SUMMARY:Adventswanderung
DESCRIPTION:
URL:https://mein-mosel.de/event/adventswanderung-2/
LOCATION:Kreuzung Altenburger/Glauchauer Straße\, Zwickau OT Mosel
ATTACH;FMTTYPE=image/jpeg:https://mein-mosel.de/wp-content/uploads/2025/11/25-11-30-Adventswanderung.jpg
END:VEVENT
BEGIN:VEVENT
DTSTART;TZID=Europe/Berlin:20251130T140000
DTEND;TZID=Europe/Berlin:20251130T180000
DTSTAMP:20260422T060211
CREATED:20251118T170056Z
LAST-MODIFIED:20251202T153447Z
UID:5643-1764511200-1764525600@mein-mosel.de
SUMMARY:Adventszauber im Rittergut Nieder-Mosel
DESCRIPTION:
URL:https://mein-mosel.de/event/adventszauber-im-rittergut-nieder-mosel-3/
LOCATION:Rittergut Nieder-Mosel\, Alter Teichweg 3\, Zwickau\, 08058
ATTACH;FMTTYPE=image/jpeg:https://mein-mosel.de/wp-content/uploads/2025/12/25-11-30-Adventszauber.jpg
END:VEVENT
BEGIN:VEVENT
DTSTART;TZID=Europe/Berlin:20251130T170000
DTEND;TZID=Europe/Berlin:20251130T183000
DTSTAMP:20260422T060211
CREATED:20251118T170009Z
LAST-MODIFIED:20251202T153712Z
UID:5646-1764522000-1764527400@mein-mosel.de
SUMMARY:Weihnachtskonzert in der Kirche Mosel
DESCRIPTION:
URL:https://mein-mosel.de/event/weihnachtskonzert-in-der-kirche-mosel/
LOCATION:Kirche Mosel\, Kirchweg 1\, Mosel\, 08058
ATTACH;FMTTYPE=image/jpeg:https://mein-mosel.de/wp-content/uploads/2025/12/25-11-30-Weihnachtskonzert.jpg
END:VEVENT
END:VCALENDAR