BEGIN:VCALENDAR
VERSION:2.0
PRODID:-//Mein Mosel - ECPv6.15.20//NONSGML v1.0//EN
CALSCALE:GREGORIAN
METHOD:PUBLISH
X-WR-CALNAME:Mein Mosel
X-ORIGINAL-URL:https://mein-mosel.de
X-WR-CALDESC:Veranstaltungen für Mein Mosel
REFRESH-INTERVAL;VALUE=DURATION:PT1H
X-Robots-Tag:noindex
X-PUBLISHED-TTL:PT1H
BEGIN:VTIMEZONE
TZID:Europe/Berlin
BEGIN:DAYLIGHT
TZOFFSETFROM:+0100
TZOFFSETTO:+0200
TZNAME:CEST
DTSTART:20230326T010000
END:DAYLIGHT
BEGIN:STANDARD
TZOFFSETFROM:+0200
TZOFFSETTO:+0100
TZNAME:CET
DTSTART:20231029T010000
END:STANDARD
BEGIN:DAYLIGHT
TZOFFSETFROM:+0100
TZOFFSETTO:+0200
TZNAME:CEST
DTSTART:20240331T010000
END:DAYLIGHT
BEGIN:STANDARD
TZOFFSETFROM:+0200
TZOFFSETTO:+0100
TZNAME:CET
DTSTART:20241027T010000
END:STANDARD
BEGIN:DAYLIGHT
TZOFFSETFROM:+0100
TZOFFSETTO:+0200
TZNAME:CEST
DTSTART:20250330T010000
END:DAYLIGHT
BEGIN:STANDARD
TZOFFSETFROM:+0200
TZOFFSETTO:+0100
TZNAME:CET
DTSTART:20251026T010000
END:STANDARD
BEGIN:DAYLIGHT
TZOFFSETFROM:+0100
TZOFFSETTO:+0200
TZNAME:CEST
DTSTART:20260329T010000
END:DAYLIGHT
BEGIN:STANDARD
TZOFFSETFROM:+0200
TZOFFSETTO:+0100
TZNAME:CET
DTSTART:20261025T010000
END:STANDARD
END:VTIMEZONE
BEGIN:VEVENT
DTSTART;TZID=Europe/Berlin:20241201T110000
DTEND;TZID=Europe/Berlin:20241201T140000
DTSTAMP:20260421T133428
CREATED:20241125T221738Z
LAST-MODIFIED:20241127T062030Z
UID:5232-1733050800-1733061600@mein-mosel.de
SUMMARY:Glühweinwanderung - 7 km - leichte Strecke
DESCRIPTION:
URL:https://mein-mosel.de/event/gluehweinwanderung-7-km-leichte-strecke/
LOCATION:Rathaus Mosel\, Dänkritzer Straße 21\, Mosel
ATTACH;FMTTYPE=image/jpeg:https://mein-mosel.de/wp-content/uploads/2024/11/24-12-01-Adventswanderung.jpg
ORGANIZER;CN="Grit Bl%C3%B6se":MAILTO:Grit-Bloese-Mosel@online.de
END:VEVENT
BEGIN:VEVENT
DTSTART;TZID=Europe/Berlin:20241201T140000
DTEND;TZID=Europe/Berlin:20241201T190000
DTSTAMP:20260421T133428
CREATED:20241125T220522Z
LAST-MODIFIED:20241125T220522Z
UID:5234-1733061600-1733079600@mein-mosel.de
SUMMARY:Adventszauber im Rittergut Nieder-Mosel
DESCRIPTION:
URL:https://mein-mosel.de/event/adventszauber-im-rittergut-nieder-mosel-2/
LOCATION:Rittergut Nieder-Mosel\, Alter Teichweg 3\, Zwickau\, 08058
ATTACH;FMTTYPE=image/jpeg:https://mein-mosel.de/wp-content/uploads/2024/11/24-12-01-Adventszauber.jpg
END:VEVENT
BEGIN:VEVENT
DTSTART;TZID=Europe/Berlin:20241201T170000
DTEND;TZID=Europe/Berlin:20250106T180000
DTSTAMP:20260421T133428
CREATED:20241201T092910Z
LAST-MODIFIED:20241201T092910Z
UID:5292-1733072400-1736186400@mein-mosel.de
SUMMARY:"Das Mein Mosel e.V.-Weihnachtsfenster - zum Staunen für Groß und Klein"
DESCRIPTION:Das Fenster wird in der ganzen Weihnachtszeit geöffnet sein.
URL:https://mein-mosel.de/event/das-mein-mosel-e-v-weihnachtsfenster-zum-staunen-fuer-gross-und-klein/
LOCATION:Weihnachtsfenster\, Altenburger Straße 75\, Zwickau OT Mosel\, 08058
ORGANIZER;CN="Mein Mosel e. V.":MAILTO:silviakern.mosel@t-online.de
END:VEVENT
BEGIN:VEVENT
DTSTART;TZID=Europe/Berlin:20241201T180000
DTEND;TZID=Europe/Berlin:20241201T200000
DTSTAMP:20260421T133428
CREATED:20241127T061633Z
LAST-MODIFIED:20241127T061633Z
UID:5243-1733076000-1733083200@mein-mosel.de
SUMMARY:Adventkonzert - Männerchor Liederkranz Zwickau 1843 e. V.
DESCRIPTION:
URL:https://mein-mosel.de/event/adventkonzert-maennerchor-liederkranz-zwickau-1843-e-v/
LOCATION:Kirche Mosel\, Kirchweg 1\, Mosel\, 08058
ATTACH;FMTTYPE=image/jpeg:https://mein-mosel.de/wp-content/uploads/2024/11/24-12-01-Adventkonzert.jpg
END:VEVENT
BEGIN:VEVENT
DTSTART;TZID=Europe/Berlin:20241204T210000
DTEND;TZID=Europe/Berlin:20241204T220000
DTSTAMP:20260421T133428
CREATED:20241127T063312Z
LAST-MODIFIED:20241127T063312Z
UID:5274-1733346000-1733349600@mein-mosel.de
SUMMARY:Adventstraining mit dem Moseler Powerfrauen e. V.
DESCRIPTION:Die Moseler Powerfrauen laden ein zum gemeinsamen Adventstraining in der Sporthalle Mosel. \nMitmachen kann jede oder jeder 😉 in bequemer Kleidung\, unabhängig vom Fitnesszustand. \nSo seid ihr gut vorbereitet für Stollen und Gänsebraten.
URL:https://mein-mosel.de/event/adventstraining-mit-dem-moseler-powerfrauen-e-v/
LOCATION:Sporthalle Mosel\, Altenburger Straße 71\, Zwickau\, Sachsen\, 08058\, Deutschland
END:VEVENT
BEGIN:VEVENT
DTSTART;TZID=Europe/Berlin:20241206T190000
DTEND;TZID=Europe/Berlin:20241206T210000
DTSTAMP:20260421T133428
CREATED:20241129T213715Z
LAST-MODIFIED:20241129T213715Z
UID:5289-1733511600-1733518800@mein-mosel.de
SUMMARY:Adventsbasteln für alle\, die Lust dazu haben
DESCRIPTION:
URL:https://mein-mosel.de/event/adventsbasteln-fuer-alle-die-lust-dazu-haben/
LOCATION:Pfarrhaus Mosel\, Dänkritzer Straße 26\, Zwickau OT Mosel\, 08058
ATTACH;FMTTYPE=image/jpeg:https://mein-mosel.de/wp-content/uploads/2024/11/24-12-06-Adventsbasteln.jpg
END:VEVENT
BEGIN:VEVENT
DTSTART;TZID=Europe/Berlin:20241207T150000
DTEND;TZID=Europe/Berlin:20241207T180000
DTSTAMP:20260421T133428
CREATED:20241202T060854Z
LAST-MODIFIED:20241202T060854Z
UID:5302-1733583600-1733594400@mein-mosel.de
SUMMARY:Bastelstand - Weihnachtsmarkt Mosel
DESCRIPTION:Der Mein Mosel e. V. begrüßt euch herzlich am Bastelstand auf dem Weihnachtsmarkt des Feuerwehrverein Mosel e. V.
URL:https://mein-mosel.de/event/bastelstand-weihnachtsmarkt-mosel/
LOCATION:Freiwillige Feuerwehr Mosel\, Dänkritzer Straße 23\, Zwickau OT Mosel\, Sachsen\, 08058\, Germany
ATTACH;FMTTYPE=application/pdf:https://mein-mosel.de/wp-content/uploads/2024/12/24-12-07-Basteln-Flyer-1.pdf
ORGANIZER;CN="Mein Mosel e. V.":MAILTO:silviakern.mosel@t-online.de
END:VEVENT
BEGIN:VEVENT
DTSTART;TZID=Europe/Berlin:20241207T150000
DTEND;TZID=Europe/Berlin:20241207T190000
DTSTAMP:20260421T133428
CREATED:20241202T062238Z
LAST-MODIFIED:20241202T062238Z
UID:5306-1733583600-1733598000@mein-mosel.de
SUMMARY:Kinderflohmarkt im Rathaus
DESCRIPTION:Reservier dir deinen Stand. Du brauchst nur deine Sachen mitbringen\, die du verkaufen möchtest. Tische sind vorhanden. \nEs ist indoor. Es ist also warm und es gibt Toiletten. \nDirekt gegenüber findet zeitgleich der Weihnachtsmarkt statt. \nWir freuen uns auf eure rege Beteiligung.
URL:https://mein-mosel.de/event/kinderflohmarkt-im-rathaus/
LOCATION:Rathaus Mosel\, Dänkritzer Straße 21\, Mosel
ATTACH;FMTTYPE=image/jpeg:https://mein-mosel.de/wp-content/uploads/2024/12/24-12-07-Kinderflohmarkt.jpg
END:VEVENT
BEGIN:VEVENT
DTSTART;TZID=Europe/Berlin:20241207T150000
DTEND;TZID=Europe/Berlin:20241207T210000
DTSTAMP:20260421T133428
CREATED:20241125T231804Z
LAST-MODIFIED:20241126T061639Z
UID:5246-1733583600-1733605200@mein-mosel.de
SUMMARY:Weihnachtsmarkt Feuerwehr Mosel
DESCRIPTION:
URL:https://mein-mosel.de/event/weihnachtsmarkt-feuerwehr-mosel/
LOCATION:Freiwillige Feuerwehr Mosel\, Dänkritzer Straße 23\, Zwickau OT Mosel\, Sachsen\, 08058\, Germany
ATTACH;FMTTYPE=application/pdf:https://mein-mosel.de/wp-content/uploads/2024/11/24-12-07-Weihnachtsmarkt-FFw.pdf
END:VEVENT
BEGIN:VEVENT
DTSTART;TZID=Europe/Berlin:20241208T093000
DTEND;TZID=Europe/Berlin:20241208T150000
DTSTAMP:20260421T133428
CREATED:20241201T093856Z
LAST-MODIFIED:20241201T093856Z
UID:5296-1733650200-1733670000@mein-mosel.de
SUMMARY:Winterturnier des SV 1946 Mosel e.V. - F-Jugend
DESCRIPTION:
URL:https://mein-mosel.de/event/winterturnier-des-sv-1946-mosel-e-v-f-jugend/
LOCATION:Sporthalle Mosel\, Altenburger Straße 71\, Zwickau\, Sachsen\, 08058\, Deutschland
ATTACH;FMTTYPE=image/jpeg:https://mein-mosel.de/wp-content/uploads/2024/12/24-12-08-Fussball-F-Jugend.jpg
END:VEVENT
BEGIN:VEVENT
DTSTART;TZID=Europe/Berlin:20241208T150000
DTEND;TZID=Europe/Berlin:20241208T200000
DTSTAMP:20260421T133428
CREATED:20241201T094300Z
LAST-MODIFIED:20241201T094300Z
UID:5299-1733670000-1733688000@mein-mosel.de
SUMMARY:Winterturnier des SV 1946 Mosel e.V. - E-Jugend
DESCRIPTION:
URL:https://mein-mosel.de/event/winterturnier-des-sv-1946-mosel-e-v-e-jugend/
LOCATION:Sporthalle Mosel\, Altenburger Straße 71\, Zwickau\, Sachsen\, 08058\, Deutschland
ATTACH;FMTTYPE=image/jpeg:https://mein-mosel.de/wp-content/uploads/2024/12/24-12-08-Fussball-E-Jugend.jpg
END:VEVENT
BEGIN:VEVENT
DTSTART;TZID=Europe/Berlin:20241211T210000
DTEND;TZID=Europe/Berlin:20241211T220000
DTSTAMP:20260421T133428
CREATED:20241127T063708Z
LAST-MODIFIED:20241127T063850Z
UID:5279-1733950800-1733954400@mein-mosel.de
SUMMARY:Adventstraining mit dem Moseler Powerfrauen e. V.
DESCRIPTION:Die Moseler Powerfrauen laden ein zum gemeinsamen Adventstraining in der Sporthalle Mosel. \nMitmachen kann jede oder jeder 😉 in bequemer Kleidung\, unabhängig vom Fitnesszustand. \nSo seid ihr gut vorbereitet für Stollen und Gänsebraten.
URL:https://mein-mosel.de/event/adventstraining-mit-dem-moseler-powerfrauen-e-v-2/
LOCATION:Sporthalle Mosel\, Altenburger Straße 71\, Zwickau\, Sachsen\, 08058\, Deutschland
END:VEVENT
BEGIN:VEVENT
DTSTART;TZID=Europe/Berlin:20241212T160000
DTEND;TZID=Europe/Berlin:20241212T180000
DTSTAMP:20260421T133428
CREATED:20241126T072659Z
LAST-MODIFIED:20241126T072659Z
UID:5265-1734019200-1734026400@mein-mosel.de
SUMMARY:Hutzennachmittag mit den LandFrauen
DESCRIPTION:
URL:https://mein-mosel.de/event/hutzennachmittag-mit-den-landfrauen/
LOCATION:Rathaus Mosel\, Dänkritzer Straße 21\, Mosel
ATTACH;FMTTYPE=application/pdf:https://mein-mosel.de/wp-content/uploads/2024/11/24-12-12-Hutzennachmittag.pdf
ORGANIZER;CN="Mein Mosel e. V.":MAILTO:silviakern.mosel@t-online.de
END:VEVENT
BEGIN:VEVENT
DTSTART;TZID=Europe/Berlin:20241213T103000
DTEND;TZID=Europe/Berlin:20241213T123000
DTSTAMP:20260421T133428
CREATED:20241210T090041Z
LAST-MODIFIED:20241213T055142Z
UID:5318-1734085800-1734093000@mein-mosel.de
SUMMARY:Weihnachtsmarkt der Schule Mosel
DESCRIPTION:
URL:https://mein-mosel.de/event/weihnachtsmarkt-der-schule-mosel/
LOCATION:Schule Mosel\, Platz der Einheit 1\, Zwickau OT Mosel\, 08058
ATTACH;FMTTYPE=image/jpeg:https://mein-mosel.de/wp-content/uploads/2024/12/24-12-13-Weihnachtsmarkt-Schule.jpg
END:VEVENT
BEGIN:VEVENT
DTSTART;TZID=Europe/Berlin:20241213T190000
DTEND;TZID=Europe/Berlin:20241214T003000
DTSTAMP:20260421T133428
CREATED:20241213T062350Z
LAST-MODIFIED:20241213T062350Z
UID:5323-1734116400-1734136200@mein-mosel.de
SUMMARY:Filmnacht bei Goldi's
DESCRIPTION:
URL:https://mein-mosel.de/event/filmnacht-bei-goldis/
ATTACH;FMTTYPE=image/jpeg:https://mein-mosel.de/wp-content/uploads/2024/12/24-12-13-Filmnacht.jpg
END:VEVENT
BEGIN:VEVENT
DTSTART;TZID=Europe/Berlin:20241214T153000
DTEND;TZID=Europe/Berlin:20241214T173000
DTSTAMP:20260421T133428
CREATED:20241213T145601Z
LAST-MODIFIED:20241213T145601Z
UID:5332-1734190200-1734197400@mein-mosel.de
SUMMARY:Gassirunde zum Advent mit René
DESCRIPTION:
URL:https://mein-mosel.de/event/gassirunde-zum-advent-mit-rene/
LOCATION:Waldspielplatz Forellenmühle\, Dänkritzer Straße 69\, Zwickau OT MOsel\, Deutschland
END:VEVENT
BEGIN:VEVENT
DTSTART;TZID=Europe/Berlin:20241215T173000
DTEND;TZID=Europe/Berlin:20241215T193000
DTSTAMP:20260421T133428
CREATED:20241213T071934Z
LAST-MODIFIED:20241213T071934Z
UID:5330-1734283800-1734291000@mein-mosel.de
SUMMARY:Musikalischer Advents-Gottesdienst - Weihnachtsliedersingen im Kerzenschein
DESCRIPTION:
URL:https://mein-mosel.de/event/musikalischer-advents-gottesdienst-weihnachtsliedersingen-im-kerzenschein/
LOCATION:Kirche Mosel\, Kirchweg 1\, Mosel\, 08058
END:VEVENT
BEGIN:VEVENT
DTSTART;TZID=Europe/Berlin:20241216T180000
DTEND;TZID=Europe/Berlin:20241216T210000
DTSTAMP:20260421T133428
CREATED:20241215T072317Z
LAST-MODIFIED:20241216T103043Z
UID:5335-1734372000-1734382800@mein-mosel.de
SUMMARY:Tischtennisturnier und Glühweintrinken mit dem Ortschaftsrat
DESCRIPTION:
URL:https://mein-mosel.de/event/tischtennisturnier-und-gluehweintrinken-mit-dem-ortschaftsrat/
LOCATION:Rathaus Mosel\, Dänkritzer Straße 21\, Mosel
ATTACH;FMTTYPE=image/jpeg:https://mein-mosel.de/wp-content/uploads/2024/12/24-12-16-OR-Tischtennis.jpg
END:VEVENT
BEGIN:VEVENT
DTSTART;TZID=Europe/Berlin:20241219T180000
DTEND;TZID=Europe/Berlin:20241219T230000
DTSTAMP:20260421T133428
CREATED:20241213T063140Z
LAST-MODIFIED:20241213T063140Z
UID:5327-1734631200-1734649200@mein-mosel.de
SUMMARY:Gemütlicher Advents-Umtrunk im Rittergut Obermosel
DESCRIPTION:
URL:https://mein-mosel.de/event/gemuetlicher-advents-umtrunk-im-rittergut-obermosel/
ATTACH;FMTTYPE=image/jpeg:https://mein-mosel.de/wp-content/uploads/2024/12/24-12-19-Gemuetlicher-Advents-Umtrunk.jpg
END:VEVENT
BEGIN:VEVENT
DTSTART;TZID=Europe/Berlin:20241224T170000
DTEND;TZID=Europe/Berlin:20241224T183000
DTSTAMP:20260421T133428
CREATED:20241221T080041Z
LAST-MODIFIED:20241223T190738Z
UID:5339-1735059600-1735065000@mein-mosel.de
SUMMARY:Weihnachtsmusical mit den Mosler Kirchenmäusen
DESCRIPTION:
URL:https://mein-mosel.de/event/weihnachtsmusical-mit-den-mosler-kirchenmaeusen/
LOCATION:Kirche Mosel\, Kirchweg 1\, Mosel\, 08058
ATTACH;FMTTYPE=image/jpeg:https://mein-mosel.de/wp-content/uploads/2024/12/Musical.jpg
END:VEVENT
BEGIN:VEVENT
DTSTART;TZID=Europe/Berlin:20241229T110000
DTEND;TZID=Europe/Berlin:20241229T123000
DTSTAMP:20260421T133428
CREATED:20241221T080055Z
LAST-MODIFIED:20241223T190558Z
UID:5343-1735470000-1735475400@mein-mosel.de
SUMMARY:Weihnachtsmusical mit den Mosler Kirchenmäusen
DESCRIPTION:
URL:https://mein-mosel.de/event/weihnachtsmusical-mit-den-mosler-kirchenmaeusen-2/
LOCATION:Kirche Mosel\, Kirchweg 1\, Mosel\, 08058
ATTACH;FMTTYPE=image/jpeg:https://mein-mosel.de/wp-content/uploads/2024/12/Musical.jpg
END:VEVENT
END:VCALENDAR