BEGIN:VCALENDAR
VERSION:2.0
PRODID:-//Mein Mosel - ECPv6.15.20//NONSGML v1.0//EN
CALSCALE:GREGORIAN
METHOD:PUBLISH
X-WR-CALNAME:Mein Mosel
X-ORIGINAL-URL:https://mein-mosel.de
X-WR-CALDESC:Veranstaltungen für Mein Mosel
REFRESH-INTERVAL;VALUE=DURATION:PT1H
X-Robots-Tag:noindex
X-PUBLISHED-TTL:PT1H
BEGIN:VTIMEZONE
TZID:Europe/Berlin
BEGIN:DAYLIGHT
TZOFFSETFROM:+0100
TZOFFSETTO:+0200
TZNAME:CEST
DTSTART:20230326T010000
END:DAYLIGHT
BEGIN:STANDARD
TZOFFSETFROM:+0200
TZOFFSETTO:+0100
TZNAME:CET
DTSTART:20231029T010000
END:STANDARD
BEGIN:DAYLIGHT
TZOFFSETFROM:+0100
TZOFFSETTO:+0200
TZNAME:CEST
DTSTART:20240331T010000
END:DAYLIGHT
BEGIN:STANDARD
TZOFFSETFROM:+0200
TZOFFSETTO:+0100
TZNAME:CET
DTSTART:20241027T010000
END:STANDARD
BEGIN:DAYLIGHT
TZOFFSETFROM:+0100
TZOFFSETTO:+0200
TZNAME:CEST
DTSTART:20250330T010000
END:DAYLIGHT
BEGIN:STANDARD
TZOFFSETFROM:+0200
TZOFFSETTO:+0100
TZNAME:CET
DTSTART:20251026T010000
END:STANDARD
END:VTIMEZONE
BEGIN:VEVENT
DTSTART;TZID=Europe/Berlin:20240509T120000
DTEND;TZID=Europe/Berlin:20240509T190000
DTSTAMP:20260421T182903
CREATED:20240411T170555Z
LAST-MODIFIED:20240411T170555Z
UID:5023-1715256000-1715281200@mein-mosel.de
SUMMARY:Männertag im Rittergut Nieder-Mosel
DESCRIPTION:
URL:https://mein-mosel.de/event/maennertag-im-rittergut-nieder-mosel/
LOCATION:Rittergut Nieder-Mosel\, Alter Teichweg 3\, Zwickau\, 08058
ATTACH;FMTTYPE=image/jpeg:https://mein-mosel.de/wp-content/uploads/2024/04/Maennertag-im-Rittergut.jpg
END:VEVENT
BEGIN:VEVENT
DTSTART;TZID=Europe/Berlin:20240510T183000
DTEND;TZID=Europe/Berlin:20240511T000000
DTSTAMP:20260421T182903
CREATED:20240509T045329Z
LAST-MODIFIED:20240509T073327Z
UID:5061-1715365800-1715385600@mein-mosel.de
SUMMARY:LandJugend
DESCRIPTION:Ihr könnt bei uns …\n… Freunde treffen\,\nDart spielen\, Malen\, Basteln\,\nverschiedene Gesellschaftsspiele ausprobieren … \nKinder & Jugendliche ab 8 Jahren\nsind herzlich willkommen. \nWir übernehmen keine Aufsichtspflicht!
URL:https://mein-mosel.de/event/landjugend-12/
LOCATION:Rathaus Mosel\, Dänkritzer Straße 21\, Mosel
ATTACH;FMTTYPE=image/png:https://mein-mosel.de/wp-content/uploads/2024/05/Werbung-2024-05-10.png
ORGANIZER;CN="Mein Mosel e. V.":MAILTO:silviakern.mosel@t-online.de
END:VEVENT
BEGIN:VEVENT
DTSTART;TZID=Europe/Berlin:20240511T120000
DTEND;TZID=Europe/Berlin:20240511T143000
DTSTAMP:20260421T182903
CREATED:20240509T074317Z
LAST-MODIFIED:20240509T074317Z
UID:5065-1715428800-1715437800@mein-mosel.de
SUMMARY:1. Mein Mosel e. V. Wildkräutersammlung
DESCRIPTION:Wir wollen Euch gern einladen\, um mit uns durch die Wiesen zu ziehen und mal zu schauen\, was denn da alles so Nützliches wächst. \nGemeinsam mit Karl-Heinz Wolf sammeln wir diverse Kräuterlein\, welche wir im Nachgang zu einem leckeren Dipp – oder so 😊 – verarbeiten wollen. Und natürlich schnabulieren wir den dann direkt mit frischem Brot gemeinsam. \nGern könnt Ihr ein Körbchen mitbringen und selbst für Euch sammeln und die gefundenen Kräuter auch individuell verarbeiten. \nWir treffen uns am Samstag\, 11.05.2024 um 10:00 Uhr am Rathaus Mosel. Geplant ist ein kleiner Spaziergang von ca. 1\,5 Stunden. Danach der gemütliche Ausklang im Rathaus. \nKapazität für die Wildkräutersammlung sind 15 Personen. \nWir bitten um vorherige Anmeldung unter Tel. 0175-8581003. \nSo denn\, ich freu mich darauf. \nSeit lieb gegrüßt \nManja Laetsch
URL:https://mein-mosel.de/event/1-mein-mosel-e-v-wildkraeutersammlung/
LOCATION:Rathaus Mosel\, Dänkritzer Straße 21\, Mosel
ATTACH;FMTTYPE=application/pdf:https://mein-mosel.de/wp-content/uploads/2024/05/Wildkraeutersammlung-3.pdf
ORGANIZER;CN="Mein Mosel e. V.":MAILTO:silviakern.mosel@t-online.de
END:VEVENT
BEGIN:VEVENT
DTSTART;TZID=Europe/Berlin:20240511T120000
DTEND;TZID=Europe/Berlin:20240511T180000
DTSTAMP:20260421T182903
CREATED:20240430T213648Z
LAST-MODIFIED:20240430T213648Z
UID:5047-1715428800-1715450400@mein-mosel.de
SUMMARY:Garagenflohmarkt
DESCRIPTION:
URL:https://mein-mosel.de/event/garagenflohmarkt/
LOCATION:Garagenflohmarkt\, Dänkritzer Straße 5\, Zwickau OT Mosel\, 08058
ATTACH;FMTTYPE=image/jpeg:https://mein-mosel.de/wp-content/uploads/2024/04/Garagenflohmarkt.jpg
END:VEVENT
END:VCALENDAR