BEGIN:VCALENDAR
VERSION:2.0
PRODID:-//Mein Mosel - ECPv6.15.20//NONSGML v1.0//EN
CALSCALE:GREGORIAN
METHOD:PUBLISH
X-ORIGINAL-URL:https://mein-mosel.de
X-WR-CALDESC:Veranstaltungen für Mein Mosel
REFRESH-INTERVAL;VALUE=DURATION:PT1H
X-Robots-Tag:noindex
X-PUBLISHED-TTL:PT1H
BEGIN:VTIMEZONE
TZID:Europe/Berlin
BEGIN:DAYLIGHT
TZOFFSETFROM:+0100
TZOFFSETTO:+0200
TZNAME:CEST
DTSTART:20220327T010000
END:DAYLIGHT
BEGIN:STANDARD
TZOFFSETFROM:+0200
TZOFFSETTO:+0100
TZNAME:CET
DTSTART:20221030T010000
END:STANDARD
BEGIN:DAYLIGHT
TZOFFSETFROM:+0100
TZOFFSETTO:+0200
TZNAME:CEST
DTSTART:20230326T010000
END:DAYLIGHT
BEGIN:STANDARD
TZOFFSETFROM:+0200
TZOFFSETTO:+0100
TZNAME:CET
DTSTART:20231029T010000
END:STANDARD
BEGIN:DAYLIGHT
TZOFFSETFROM:+0100
TZOFFSETTO:+0200
TZNAME:CEST
DTSTART:20240331T010000
END:DAYLIGHT
BEGIN:STANDARD
TZOFFSETFROM:+0200
TZOFFSETTO:+0100
TZNAME:CET
DTSTART:20241027T010000
END:STANDARD
BEGIN:DAYLIGHT
TZOFFSETFROM:+0100
TZOFFSETTO:+0200
TZNAME:CEST
DTSTART:20250330T010000
END:DAYLIGHT
BEGIN:STANDARD
TZOFFSETFROM:+0200
TZOFFSETTO:+0100
TZNAME:CET
DTSTART:20251026T010000
END:STANDARD
END:VTIMEZONE
BEGIN:VEVENT
DTSTART;TZID=Europe/Berlin:20240301T173000
DTEND;TZID=Europe/Berlin:20240301T230000
DTSTAMP:20260421T211755
CREATED:20240229T164519Z
LAST-MODIFIED:20240229T164519Z
UID:4962-1709314200-1709334000@mein-mosel.de
SUMMARY:LandJugend
DESCRIPTION:Herzliche Einladung zur Osterbastelei\, oder … \n… Freunde treffen\, Dart spielen\, Malen\, Basteln\, \nverschiedene Gesellschaftsspiele ausprobieren … \n  \nKinder & Jugendliche ab 8 Jahren \nsind herzlich willkommen. \n  \nWir übernehmen keine Aufsichtspflicht!
URL:https://mein-mosel.de/event/landjugend-8/
LOCATION:Rathaus Mosel\, Dänkritzer Straße 21\, Mosel
ATTACH;FMTTYPE=image/jpeg:https://mein-mosel.de/wp-content/uploads/2024/02/Werbung-24-03-01.jpg
END:VEVENT
BEGIN:VEVENT
DTSTART;TZID=Europe/Berlin:20240302T110000
DTEND;TZID=Europe/Berlin:20240302T120000
DTSTAMP:20260421T211755
CREATED:20240301T070209Z
LAST-MODIFIED:20240301T070209Z
UID:4965-1709377200-1709380800@mein-mosel.de
SUMMARY:Weihnachts-Musical - Casting
DESCRIPTION:
URL:https://mein-mosel.de/event/weihnachts-musical-casting/
LOCATION:Pfarrhaus Mosel\, Dänkritzer Straße 26\, Zwickau OT Mosel\, 08058
ATTACH;FMTTYPE=image/jpeg:https://mein-mosel.de/wp-content/uploads/2024/03/Weihnachtsmusical-Casting.jpg
END:VEVENT
BEGIN:VEVENT
DTSTART;TZID=Europe/Berlin:20240302T140000
DTEND;TZID=Europe/Berlin:20240302T180000
DTSTAMP:20260421T211755
CREATED:20240302T063728Z
LAST-MODIFIED:20240302T063728Z
UID:4969-1709388000-1709402400@mein-mosel.de
SUMMARY:Hofcafé im Rittergut-Niedermosel
DESCRIPTION:
URL:https://mein-mosel.de/event/hofcafe-im-rittergut-niedermosel/
LOCATION:Rittergut Niedermosel\, Alter Teichweg 3\, Zwickau OT Mosel\, Sachsen\, 08058\, Deutschland
ATTACH;FMTTYPE=image/jpeg:https://mein-mosel.de/wp-content/uploads/2024/03/Hofcafe.jpg
END:VEVENT
BEGIN:VEVENT
DTSTART;TZID=Europe/Berlin:20240302T140000
DTEND;TZID=Europe/Berlin:20240302T180000
DTSTAMP:20260421T211755
CREATED:20240302T063728Z
LAST-MODIFIED:20240302T063728Z
UID:4969-1709388000-1709402400@mein-mosel.de
SUMMARY:Hofcafé im Rittergut-Niedermosel
DESCRIPTION:
URL:https://mein-mosel.de/event/hofcafe-im-rittergut-niedermosel/
LOCATION:Rittergut Niedermosel\, Alter Teichweg 3\, Zwickau OT Mosel\, Sachsen\, 08058\, Deutschland
ATTACH;FMTTYPE=image/jpeg:https://mein-mosel.de/wp-content/uploads/2024/03/Hofcafe.jpg
END:VEVENT
BEGIN:VEVENT
DTSTART;TZID=Europe/Berlin:20231102T190000
DTEND;TZID=Europe/Berlin:20231102T220000
DTSTAMP:20260421T211755
CREATED:20231019T194652Z
LAST-MODIFIED:20231019T194652Z
UID:4774-1698951600-1698962400@mein-mosel.de
SUMMARY:Moseler LandFrauen
DESCRIPTION:Bei den LandFrauen wird Miteinander großgeschrieben. Sie bringen Farbe ins Dorfleben und gelten als Macherinnen. Traditionelles erhalten und offen sein für Neues. Es gibt erst mal kein festes Programm sondern die Ideen sollen gemeinsam gefasst und umgesetzt werden. Dabei sind die Möglichkeiten sehr breit: Gemeinsames Backen von Plätzchen zur Adventszeit\, Herstellung von Weihnachts- und Osterdekoration\, Gartentipps austauschen und gemeinsame Handarbeitsabende sind nur die ersten Anregungen. \nDie Treffen finden immer am letzten Donnerstag im Monat statt.\nDu hast Interesse? Dann melde dich bei Ines Leipziger (Tel.: 0157 72 70 34 14) oder komme einfach vorbei.
URL:https://mein-mosel.de/event/moseler-landfrauen-3/
LOCATION:Rathaus Mosel\, Dänkritzer Straße 21\, Mosel
ATTACH;FMTTYPE=image/jpeg:https://mein-mosel.de/wp-content/uploads/2022/06/Landfrauen-1.jpg
END:VEVENT
BEGIN:VEVENT
DTSTART;TZID=Europe/Berlin:20240315T173000
DTEND;TZID=Europe/Berlin:20240315T230000
DTSTAMP:20260421T211755
CREATED:20240314T144711Z
LAST-MODIFIED:20240314T144917Z
UID:4977-1710523800-1710543600@mein-mosel.de
SUMMARY:LandJugend
DESCRIPTION:Herzliche Einladung zur Osterbastelei\, oder …\n… Freunde treffen\, Dart spielen\, Malen\, Basteln\,\nverschiedene Gesellschaftsspiele ausprobieren … \nKinder & Jugendliche ab 8 Jahren\nsind herzlich willkommen. \nWir übernehmen keine Aufsichtspflicht!
URL:https://mein-mosel.de/event/landjugend-9/
LOCATION:Rathaus Mosel\, Dänkritzer Straße 21\, Mosel
ATTACH;FMTTYPE=image/png:https://mein-mosel.de/wp-content/uploads/2024/03/Werbung-2024-03-15.png
ORGANIZER;CN="Mein Mosel e. V.":MAILTO:silviakern.mosel@t-online.de
END:VEVENT
BEGIN:VEVENT
DTSTART;TZID=Europe/Berlin:20231102T190000
DTEND;TZID=Europe/Berlin:20231102T220000
DTSTAMP:20260421T211755
CREATED:20231019T194652Z
LAST-MODIFIED:20231019T194652Z
UID:4774-1698951600-1698962400@mein-mosel.de
SUMMARY:Moseler LandFrauen
DESCRIPTION:Bei den LandFrauen wird Miteinander großgeschrieben. Sie bringen Farbe ins Dorfleben und gelten als Macherinnen. Traditionelles erhalten und offen sein für Neues. Es gibt erst mal kein festes Programm sondern die Ideen sollen gemeinsam gefasst und umgesetzt werden. Dabei sind die Möglichkeiten sehr breit: Gemeinsames Backen von Plätzchen zur Adventszeit\, Herstellung von Weihnachts- und Osterdekoration\, Gartentipps austauschen und gemeinsame Handarbeitsabende sind nur die ersten Anregungen. \nDie Treffen finden immer am letzten Donnerstag im Monat statt.\nDu hast Interesse? Dann melde dich bei Ines Leipziger (Tel.: 0157 72 70 34 14) oder komme einfach vorbei.
URL:https://mein-mosel.de/event/moseler-landfrauen-3/
LOCATION:Rathaus Mosel\, Dänkritzer Straße 21\, Mosel
ATTACH;FMTTYPE=image/jpeg:https://mein-mosel.de/wp-content/uploads/2022/06/Landfrauen-1.jpg
END:VEVENT
BEGIN:VEVENT
DTSTART;TZID=Europe/Berlin:20240331T123000
DTEND;TZID=Europe/Berlin:20240331T140000
DTSTAMP:20260421T211755
CREATED:20240319T103623Z
LAST-MODIFIED:20240319T103623Z
UID:4982-1711888200-1711893600@mein-mosel.de
SUMMARY:Ostereiersuche für Kinder
DESCRIPTION:Am Ostersonntag\, dem 31.03.2024 sind alle Kinder ab 10:30 Uhr zur Ostereiersuche auf dem Spielplatz der Forellenmühle herzlich Willkommen. \nUnser Maskottchen der Fuchs „Moselino“ freut sich schon\, dass er auch wieder zu Besuch sein wird und hat für jedes gefundene Ei noch eine Süßigkeit dabei.
URL:https://mein-mosel.de/event/ostereiersuche-fuer-kinder/
LOCATION:Waldspielplatz Forellenmühle\, Dänkritzer Straße 69\, Zwickau OT MOsel\, Deutschland
ATTACH;FMTTYPE=image/png:https://mein-mosel.de/wp-content/uploads/2024/03/Plakat-2024.png
ORGANIZER;CN="Mein Mosel e. V.":MAILTO:silviakern.mosel@t-online.de
END:VEVENT
END:VCALENDAR