BEGIN:VCALENDAR
VERSION:2.0
PRODID:-//Mein Mosel - ECPv6.15.20//NONSGML v1.0//EN
CALSCALE:GREGORIAN
METHOD:PUBLISH
X-ORIGINAL-URL:https://mein-mosel.de
X-WR-CALDESC:Veranstaltungen für Mein Mosel
REFRESH-INTERVAL;VALUE=DURATION:PT1H
X-Robots-Tag:noindex
X-PUBLISHED-TTL:PT1H
BEGIN:VTIMEZONE
TZID:Europe/Berlin
BEGIN:DAYLIGHT
TZOFFSETFROM:+0100
TZOFFSETTO:+0200
TZNAME:CEST
DTSTART:20220327T010000
END:DAYLIGHT
BEGIN:STANDARD
TZOFFSETFROM:+0200
TZOFFSETTO:+0100
TZNAME:CET
DTSTART:20221030T010000
END:STANDARD
BEGIN:DAYLIGHT
TZOFFSETFROM:+0100
TZOFFSETTO:+0200
TZNAME:CEST
DTSTART:20230326T010000
END:DAYLIGHT
BEGIN:STANDARD
TZOFFSETFROM:+0200
TZOFFSETTO:+0100
TZNAME:CET
DTSTART:20231029T010000
END:STANDARD
BEGIN:DAYLIGHT
TZOFFSETFROM:+0100
TZOFFSETTO:+0200
TZNAME:CEST
DTSTART:20240331T010000
END:DAYLIGHT
BEGIN:STANDARD
TZOFFSETFROM:+0200
TZOFFSETTO:+0100
TZNAME:CET
DTSTART:20241027T010000
END:STANDARD
BEGIN:DAYLIGHT
TZOFFSETFROM:+0100
TZOFFSETTO:+0200
TZNAME:CEST
DTSTART:20250330T010000
END:DAYLIGHT
BEGIN:STANDARD
TZOFFSETFROM:+0200
TZOFFSETTO:+0100
TZNAME:CET
DTSTART:20251026T010000
END:STANDARD
END:VTIMEZONE
BEGIN:VEVENT
DTSTART;TZID=Europe/Berlin:20240105T173000
DTEND;TZID=Europe/Berlin:20240105T230000
DTSTAMP:20260422T001137
CREATED:20240104T192648Z
LAST-MODIFIED:20240104T192648Z
UID:4867-1704475800-1704495600@mein-mosel.de
SUMMARY:LandJugend
DESCRIPTION:Ihr könnt bei uns … \n… Freunde treffen\, Dart spielen\, Malen\, Basteln\, \nverschiedene Gesellschaftsspiele ausprobieren … \n  \nKinder & Jugendliche ab 8 Jahren \nsind herzlich willkommen. \n  \nWir übernehmen keine Aufsichtspflicht!
URL:https://mein-mosel.de/event/landjugend-5/
LOCATION:Rathaus Mosel\, Dänkritzer Straße 21\, Mosel
CATEGORIES:LandJugend
ATTACH;FMTTYPE=image/jpeg:https://mein-mosel.de/wp-content/uploads/2024/01/Werbung-24-01-05.jpg
ORGANIZER;CN="Mein Mosel e. V.":MAILTO:silviakern.mosel@t-online.de
END:VEVENT
BEGIN:VEVENT
DTSTART;TZID=Europe/Berlin:20240106T180000
DTEND;TZID=Europe/Berlin:20240106T190000
DTSTAMP:20260422T001137
CREATED:20240106T052347Z
LAST-MODIFIED:20240106T052347Z
UID:4871-1704564000-1704567600@mein-mosel.de
SUMMARY:Krippenspiel (Wiederholung)
DESCRIPTION:
URL:https://mein-mosel.de/event/krippenspiel-wiederholung/
LOCATION:Kirche Mosel\, Kirchweg 1\, Mosel\, 08058
END:VEVENT
BEGIN:VEVENT
DTSTART;TZID=Europe/Berlin:20231102T190000
DTEND;TZID=Europe/Berlin:20231102T220000
DTSTAMP:20260422T001137
CREATED:20231019T194652Z
LAST-MODIFIED:20231019T194652Z
UID:4774-1698951600-1698962400@mein-mosel.de
SUMMARY:Moseler LandFrauen
DESCRIPTION:Bei den LandFrauen wird Miteinander großgeschrieben. Sie bringen Farbe ins Dorfleben und gelten als Macherinnen. Traditionelles erhalten und offen sein für Neues. Es gibt erst mal kein festes Programm sondern die Ideen sollen gemeinsam gefasst und umgesetzt werden. Dabei sind die Möglichkeiten sehr breit: Gemeinsames Backen von Plätzchen zur Adventszeit\, Herstellung von Weihnachts- und Osterdekoration\, Gartentipps austauschen und gemeinsame Handarbeitsabende sind nur die ersten Anregungen. \nDie Treffen finden immer am letzten Donnerstag im Monat statt.\nDu hast Interesse? Dann melde dich bei Ines Leipziger (Tel.: 0157 72 70 34 14) oder komme einfach vorbei.
URL:https://mein-mosel.de/event/moseler-landfrauen-3/
LOCATION:Rathaus Mosel\, Dänkritzer Straße 21\, Mosel
ATTACH;FMTTYPE=image/jpeg:https://mein-mosel.de/wp-content/uploads/2022/06/Landfrauen-1.jpg
END:VEVENT
BEGIN:VEVENT
DTSTART;TZID=Europe/Berlin:20240113T170000
DTEND;TZID=Europe/Berlin:20240113T220000
DTSTAMP:20260422T001137
CREATED:20240112T151113Z
LAST-MODIFIED:20240112T151113Z
UID:4881-1705165200-1705183200@mein-mosel.de
SUMMARY:Knut Fest
DESCRIPTION:
URL:https://mein-mosel.de/event/knut-fest-2/
LOCATION:Gerätehaus der Feuerwehr Mosel\, Dänkritzer Straße 23\, Zwickau\, Sachsen\, 08058\, Deutschland
ATTACH;FMTTYPE=image/jpeg:https://mein-mosel.de/wp-content/uploads/2024/01/IMG_9668.jpg
END:VEVENT
BEGIN:VEVENT
DTSTART;TZID=Europe/Berlin:20240118T200000
DTEND;TZID=Europe/Berlin:20240118T220000
DTSTAMP:20260422T001137
CREATED:20240106T054959Z
LAST-MODIFIED:20240106T060245Z
UID:4873-1705608000-1705615200@mein-mosel.de
SUMMARY:Mit Holm Günther 900 km auf dem Jakobsweg!
DESCRIPTION:
URL:https://mein-mosel.de/event/mit-holm-guenther-900-km-auf-dem-jakobsweg/
LOCATION:Gaststätte Gambrinus\, Dänkritzer Straße 19\, Zwickau OT Mosel\, Deutschland
ATTACH;FMTTYPE=image/jpeg:https://mein-mosel.de/wp-content/uploads/2024/01/Gambrinus-24-01-18.jpg
ORGANIZER;CN="Gastst%C3%A4tte und Pension Gambrinus":MAILTO:gambrinus.mosel@web.de
END:VEVENT
BEGIN:VEVENT
DTSTART;TZID=Europe/Berlin:20240124T163000
DTEND;TZID=Europe/Berlin:20240124T180000
DTSTAMP:20260422T001137
CREATED:20240123T051142Z
LAST-MODIFIED:20240123T051142Z
UID:4892-1706113800-1706119200@mein-mosel.de
SUMMARY:Kita "Schatzinsel" feiert 40-jähriges Jubiläum
DESCRIPTION:
URL:https://mein-mosel.de/event/kita-schatzinsel-feiert-40-jaehriges-jubilaeum/
LOCATION:Integrative Kindertageseinrichtung „Schatzinsel“\, Karl-Kippenhahn-Straße 47\, Zwickau OT Mosel\, 08058
ATTACH;FMTTYPE=image/jpeg:https://mein-mosel.de/wp-content/uploads/2024/01/IMG_9673.jpg
END:VEVENT
BEGIN:VEVENT
DTSTART;TZID=Europe/Berlin:20231102T190000
DTEND;TZID=Europe/Berlin:20231102T220000
DTSTAMP:20260422T001137
CREATED:20231019T194652Z
LAST-MODIFIED:20231019T194652Z
UID:4774-1698951600-1698962400@mein-mosel.de
SUMMARY:Moseler LandFrauen
DESCRIPTION:Bei den LandFrauen wird Miteinander großgeschrieben. Sie bringen Farbe ins Dorfleben und gelten als Macherinnen. Traditionelles erhalten und offen sein für Neues. Es gibt erst mal kein festes Programm sondern die Ideen sollen gemeinsam gefasst und umgesetzt werden. Dabei sind die Möglichkeiten sehr breit: Gemeinsames Backen von Plätzchen zur Adventszeit\, Herstellung von Weihnachts- und Osterdekoration\, Gartentipps austauschen und gemeinsame Handarbeitsabende sind nur die ersten Anregungen. \nDie Treffen finden immer am letzten Donnerstag im Monat statt.\nDu hast Interesse? Dann melde dich bei Ines Leipziger (Tel.: 0157 72 70 34 14) oder komme einfach vorbei.
URL:https://mein-mosel.de/event/moseler-landfrauen-3/
LOCATION:Rathaus Mosel\, Dänkritzer Straße 21\, Mosel
ATTACH;FMTTYPE=image/jpeg:https://mein-mosel.de/wp-content/uploads/2022/06/Landfrauen-1.jpg
END:VEVENT
END:VCALENDAR