BEGIN:VCALENDAR
VERSION:2.0
PRODID:-//Mein Mosel - ECPv6.15.20//NONSGML v1.0//EN
CALSCALE:GREGORIAN
METHOD:PUBLISH
X-WR-CALNAME:Mein Mosel
X-ORIGINAL-URL:https://mein-mosel.de
X-WR-CALDESC:Veranstaltungen für Mein Mosel
REFRESH-INTERVAL;VALUE=DURATION:PT1H
X-Robots-Tag:noindex
X-PUBLISHED-TTL:PT1H
BEGIN:VTIMEZONE
TZID:Europe/Berlin
BEGIN:DAYLIGHT
TZOFFSETFROM:+0100
TZOFFSETTO:+0200
TZNAME:CEST
DTSTART:20220327T010000
END:DAYLIGHT
BEGIN:STANDARD
TZOFFSETFROM:+0200
TZOFFSETTO:+0100
TZNAME:CET
DTSTART:20221030T010000
END:STANDARD
BEGIN:DAYLIGHT
TZOFFSETFROM:+0100
TZOFFSETTO:+0200
TZNAME:CEST
DTSTART:20230326T010000
END:DAYLIGHT
BEGIN:STANDARD
TZOFFSETFROM:+0200
TZOFFSETTO:+0100
TZNAME:CET
DTSTART:20231029T010000
END:STANDARD
BEGIN:DAYLIGHT
TZOFFSETFROM:+0100
TZOFFSETTO:+0200
TZNAME:CEST
DTSTART:20240331T010000
END:DAYLIGHT
BEGIN:STANDARD
TZOFFSETFROM:+0200
TZOFFSETTO:+0100
TZNAME:CET
DTSTART:20241027T010000
END:STANDARD
END:VTIMEZONE
BEGIN:VEVENT
DTSTART;TZID=Europe/Berlin:20231201T173000
DTEND;TZID=Europe/Berlin:20231201T230000
DTSTAMP:20260422T013522
CREATED:20231130T163837Z
LAST-MODIFIED:20231130T214604Z
UID:4819-1701451800-1701471600@mein-mosel.de
SUMMARY:Moseler LandJugend
DESCRIPTION:Die LandJugend läd herzlich alle Kinder und Jugendlichen ab 8 Jahren in’s Rathaus Mosel ein. \nWir wollen mit euch Plätzchen backen … \naußerdem könnt ihr bei uns … \nFreunde treffen\, Dart spielen\, Malen\, Basteln\, verschiedene Gesellschaftsspiele ausprobieren … \nWir übernehmen keine Aufsichtspflicht!
URL:https://mein-mosel.de/event/landjugend-2/
LOCATION:Rathaus Mosel\, Dänkritzer Straße 21\, Mosel
ORGANIZER;CN="Mein Mosel e. V.":MAILTO:silviakern.mosel@t-online.de
END:VEVENT
BEGIN:VEVENT
DTSTART;TZID=Europe/Berlin:20231202T153000
DTEND;TZID=Europe/Berlin:20231202T160000
DTSTAMP:20260422T013522
CREATED:20231130T173340Z
LAST-MODIFIED:20231130T173707Z
UID:4830-1701531000-1701532800@mein-mosel.de
SUMMARY:Der Weihnachtsmann schiebt unsere Pyramide an.
DESCRIPTION:Um 14:30 Uhr kommt der Weihnachtsmann und schiebt unsere Pyramide an. \nEr freut sich über viele kleine und große Helfer!
URL:https://mein-mosel.de/event/der-weihnachtsmann-schiebt-unsere-pyramide-an/
LOCATION:Kreuzung Altenburger/Glauchauer Straße\, Zwickau OT Mosel
ORGANIZER;CN="Ortschaftsrat Mosel":MAILTO:melanie.braendel@zwickau.de
END:VEVENT
BEGIN:VEVENT
DTSTART;TZID=Europe/Berlin:20231203T110000
DTEND;TZID=Europe/Berlin:20231203T120000
DTSTAMP:20260422T013522
CREATED:20231130T213824Z
LAST-MODIFIED:20231130T213824Z
UID:4839-1701601200-1701604800@mein-mosel.de
SUMMARY:Mini-Musical "Die vier Kerzen" mit den Mosler Kirchenmäusen und Gospels "SingDing"
DESCRIPTION:Advent und Weihnachten – keine andere Zeit im Jahr weckt so viele Wünsche und Erwartungen bei den Menschen. Das Fest der Liebe\, des Friedens\, der Hoffnung wird es benannt. \nEine Zeit der Besinnung soll es sein\, in der wir wieder nach dem Sinn des Lebens fragen. \nAber – das Eine sind eben Wünsche und Illusionen\, die Wirklichkeit sieht auch in der Weihnachtszeit ganz anders aus. Das müssen auch die drei Kerzen erfahren\, die für Glaube\, Liebe und Frieden stehen. Die Menschen brauchen nicht ihr Licht\, sie haben ganz andere Dinge im Kopf – zur Enttäuschung der Kerzen… Wenn da nicht noch die Hoffnungskerze wäre… \nBrauchen wir sie überhaupt? Die Antwort gibt es von den Kirchenmäusen in Form eines Mini-Musicals am ersten Advent zum Familiengottesdienst in der Kirche Mosel. \nFühlt euch alle herzlich eingeladen! \nDie Mosler Kirchenmäuse
URL:https://mein-mosel.de/event/mini-musical-die-vier-kerzen-mit-den-mosler-kirchenmaeusen-und-gospels-singding/
LOCATION:Kirche Mosel\, Kirchweg 1\, Mosel\, 08058
ATTACH;FMTTYPE=image/jpeg:https://mein-mosel.de/wp-content/uploads/2023/11/Die-vier-Kerzen.jpg
END:VEVENT
BEGIN:VEVENT
DTSTART;TZID=Europe/Berlin:20231203T140000
DTEND;TZID=Europe/Berlin:20231203T190000
DTSTAMP:20260422T013522
CREATED:20231130T170144Z
LAST-MODIFIED:20231202T064256Z
UID:4821-1701612000-1701630000@mein-mosel.de
SUMMARY:Adventszauber im Rittergut
DESCRIPTION:Zum gemütlichen Hofcafé in besinnlicher Atmosphäre möchten wir wieder alle Freunde und Gäste recht herzlich einladen. \nGenießen Sie Glühwein am Lagerfeuer\, Leckereien aus dem Holzbackofen\, Kaffee und Kuchen\, sowie mancherlei deftige Spezialitäten. \nIn der Scheune können unsere kleinen Besucher spannenden Weihnachtsgeschichten lauschen und ab 16:00 Uhr sogar den Weihnachtsmann persönlich treffen. \nKinderreiten\, kleine Basteleien\, Stockbrot und vieles mehr … \nEs freut sich: Familie Seifert & Team vom Rittergut Niedermosel
URL:https://mein-mosel.de/event/adventszauber-im-rittergut/
LOCATION:Rittergut Niedermosel\, Alter Teichweg 3\, Zwickau OT Mosel\, Sachsen\, 08058\, Deutschland
ATTACH;FMTTYPE=image/png:https://mein-mosel.de/wp-content/uploads/2023/11/Flyer-Adventszauber-2023.png
END:VEVENT
BEGIN:VEVENT
DTSTART;TZID=Europe/Berlin:20231205T160000
DTEND;TZID=Europe/Berlin:20231205T180000
DTSTAMP:20260422T013522
CREATED:20231130T171917Z
LAST-MODIFIED:20231130T205820Z
UID:4825-1701792000-1701799200@mein-mosel.de
SUMMARY:Bücherei - Neueröffnung nach Umbau - jetzt mit neuem tollen Kinderbereich
DESCRIPTION:Am 05.12.2023 laden wir alle Lesefreunde zwischen 15:00 – 17:00 Uhr ein\, uns in der neu gestalteten Bücherei im Rathaus zu besuchen. \nBei Kaffee und Kuchen wollen wir gern mit euch gemeinsam über die neuesten Bücher und Vorhaben rund ums Lesen in unserem schönen Mosel plaudern. \nBücherspenden (Erwachsenenliteratur\, Teens- und Kinderbücher) sind jederzeit willkommen!
URL:https://mein-mosel.de/event/buecherei-neueroeffnung-nach-umbau-jetzt-mit-neuem-tollen-kinderbereich/
LOCATION:Rathaus Mosel\, Dänkritzer Straße 21\, Mosel
ATTACH;FMTTYPE=image/jpeg:https://mein-mosel.de/wp-content/uploads/2023/11/Buecherei-Neueroeffnung.jpg
ORGANIZER;CN="Ortschaftsrat Mosel":MAILTO:melanie.braendel@zwickau.de
END:VEVENT
BEGIN:VEVENT
DTSTART;TZID=Europe/Berlin:20231208T173000
DTEND;TZID=Europe/Berlin:20231208T230000
DTSTAMP:20260422T013522
CREATED:20231207T180630Z
LAST-MODIFIED:20231207T180837Z
UID:4846-1702056600-1702076400@mein-mosel.de
SUMMARY:LandJugend
DESCRIPTION:Herzliche Einladung zur Weihnachtsbastelei …\n… wer keinen „Bock“ auf Basteln hat\, kann …\n… einfach Freunde treffen\, Dart spielen\, Malen\, verschiedene Gesellschaftsspiele ausprobieren … \nKinder & Jugendliche ab 8 Jahren sind herzlich willkommen. \nWir übernehmen keine Aufsichtspflicht!
URL:https://mein-mosel.de/event/landjugend-3/
LOCATION:Rathaus Mosel\, Dänkritzer Straße 21\, Mosel
ATTACH;FMTTYPE=image/jpeg:https://mein-mosel.de/wp-content/uploads/2023/12/Werbung-23-12-08.jpg
ORGANIZER;CN="Mein Mosel e. V.":MAILTO:silviakern.mosel@t-online.de
END:VEVENT
BEGIN:VEVENT
DTSTART;TZID=Europe/Berlin:20231209T170000
DTEND;TZID=Europe/Berlin:20231209T210000
DTSTAMP:20260422T013522
CREATED:20231020T081741Z
LAST-MODIFIED:20231020T081907Z
UID:4787-1702141200-1702155600@mein-mosel.de
SUMMARY:Weihnachtsmarkt Mosel
DESCRIPTION:
URL:https://mein-mosel.de/event/weihnachtsmarkt-mosel-2/
LOCATION:Gerätehaus der Feuerwehr Mosel\, Dänkritzer Straße 23\, Zwickau\, Sachsen\, 08058\, Deutschland
END:VEVENT
BEGIN:VEVENT
DTSTART;TZID=Europe/Berlin:20231102T190000
DTEND;TZID=Europe/Berlin:20231102T220000
DTSTAMP:20260422T013522
CREATED:20231019T194652Z
LAST-MODIFIED:20231019T194652Z
UID:4774-1698951600-1698962400@mein-mosel.de
SUMMARY:Moseler LandFrauen
DESCRIPTION:Bei den LandFrauen wird Miteinander großgeschrieben. Sie bringen Farbe ins Dorfleben und gelten als Macherinnen. Traditionelles erhalten und offen sein für Neues. Es gibt erst mal kein festes Programm sondern die Ideen sollen gemeinsam gefasst und umgesetzt werden. Dabei sind die Möglichkeiten sehr breit: Gemeinsames Backen von Plätzchen zur Adventszeit\, Herstellung von Weihnachts- und Osterdekoration\, Gartentipps austauschen und gemeinsame Handarbeitsabende sind nur die ersten Anregungen. \nDie Treffen finden immer am letzten Donnerstag im Monat statt.\nDu hast Interesse? Dann melde dich bei Ines Leipziger (Tel.: 0157 72 70 34 14) oder komme einfach vorbei.
URL:https://mein-mosel.de/event/moseler-landfrauen-3/
LOCATION:Rathaus Mosel\, Dänkritzer Straße 21\, Mosel
ATTACH;FMTTYPE=image/jpeg:https://mein-mosel.de/wp-content/uploads/2022/06/Landfrauen-1.jpg
END:VEVENT
BEGIN:VEVENT
DTSTART;TZID=Europe/Berlin:20231215T173000
DTEND;TZID=Europe/Berlin:20231215T230000
DTSTAMP:20260422T013522
CREATED:20231213T194929Z
LAST-MODIFIED:20231213T194929Z
UID:4862-1702661400-1702681200@mein-mosel.de
SUMMARY:LandJugend
DESCRIPTION:„Oh es riecht gut\, oh es riecht fein\, dass können ja nur selbst gebrannte Mandeln sein.“ \nHerzliche Einladung zum Herstellen von gebrannten Mandeln \n… oder ihr kommt einfach vorbei zum Freunde treffen\, Dart spielen\, Basteln\, Malen\, verschiedene Gesellschaftsspiele ausprobieren … \nKinder & Jugendliche ab 8 Jahren sind herzlich willkommen. \nWir übernehmen keine Aufsichtspflicht!
URL:https://mein-mosel.de/event/landjugend-4/
LOCATION:Rathaus Mosel\, Dänkritzer Straße 21\, Mosel
ATTACH;FMTTYPE=image/jpeg:https://mein-mosel.de/wp-content/uploads/2023/12/Werbung-23-12-15.jpg
ORGANIZER;CN="Mein Mosel e. V.":MAILTO:silviakern.mosel@t-online.de
END:VEVENT
BEGIN:VEVENT
DTSTART;TZID=Europe/Berlin:20231102T190000
DTEND;TZID=Europe/Berlin:20231102T220000
DTSTAMP:20260422T013522
CREATED:20231019T194652Z
LAST-MODIFIED:20231019T194652Z
UID:4774-1698951600-1698962400@mein-mosel.de
SUMMARY:Moseler LandFrauen
DESCRIPTION:Bei den LandFrauen wird Miteinander großgeschrieben. Sie bringen Farbe ins Dorfleben und gelten als Macherinnen. Traditionelles erhalten und offen sein für Neues. Es gibt erst mal kein festes Programm sondern die Ideen sollen gemeinsam gefasst und umgesetzt werden. Dabei sind die Möglichkeiten sehr breit: Gemeinsames Backen von Plätzchen zur Adventszeit\, Herstellung von Weihnachts- und Osterdekoration\, Gartentipps austauschen und gemeinsame Handarbeitsabende sind nur die ersten Anregungen. \nDie Treffen finden immer am letzten Donnerstag im Monat statt.\nDu hast Interesse? Dann melde dich bei Ines Leipziger (Tel.: 0157 72 70 34 14) oder komme einfach vorbei.
URL:https://mein-mosel.de/event/moseler-landfrauen-3/
LOCATION:Rathaus Mosel\, Dänkritzer Straße 21\, Mosel
ATTACH;FMTTYPE=image/jpeg:https://mein-mosel.de/wp-content/uploads/2022/06/Landfrauen-1.jpg
END:VEVENT
END:VCALENDAR