BEGIN:VCALENDAR
VERSION:2.0
PRODID:-//Mein Mosel - ECPv6.15.20//NONSGML v1.0//EN
CALSCALE:GREGORIAN
METHOD:PUBLISH
X-WR-CALNAME:Mein Mosel
X-ORIGINAL-URL:https://mein-mosel.de
X-WR-CALDESC:Veranstaltungen für Mein Mosel
REFRESH-INTERVAL;VALUE=DURATION:PT1H
X-Robots-Tag:noindex
X-PUBLISHED-TTL:PT1H
BEGIN:VTIMEZONE
TZID:Europe/Berlin
BEGIN:DAYLIGHT
TZOFFSETFROM:+0100
TZOFFSETTO:+0200
TZNAME:CEST
DTSTART:20220327T010000
END:DAYLIGHT
BEGIN:STANDARD
TZOFFSETFROM:+0200
TZOFFSETTO:+0100
TZNAME:CET
DTSTART:20221030T010000
END:STANDARD
BEGIN:DAYLIGHT
TZOFFSETFROM:+0100
TZOFFSETTO:+0200
TZNAME:CEST
DTSTART:20230326T010000
END:DAYLIGHT
BEGIN:STANDARD
TZOFFSETFROM:+0200
TZOFFSETTO:+0100
TZNAME:CET
DTSTART:20231029T010000
END:STANDARD
BEGIN:DAYLIGHT
TZOFFSETFROM:+0100
TZOFFSETTO:+0200
TZNAME:CEST
DTSTART:20240331T010000
END:DAYLIGHT
BEGIN:STANDARD
TZOFFSETFROM:+0200
TZOFFSETTO:+0100
TZNAME:CET
DTSTART:20241027T010000
END:STANDARD
END:VTIMEZONE
BEGIN:VEVENT
DTSTART;TZID=Europe/Berlin:20231102T190000
DTEND;TZID=Europe/Berlin:20231102T220000
DTSTAMP:20260422T025608
CREATED:20231019T194652Z
LAST-MODIFIED:20231019T194652Z
UID:4774-1698951600-1698962400@mein-mosel.de
SUMMARY:Moseler LandFrauen
DESCRIPTION:Bei den LandFrauen wird Miteinander großgeschrieben. Sie bringen Farbe ins Dorfleben und gelten als Macherinnen. Traditionelles erhalten und offen sein für Neues. Es gibt erst mal kein festes Programm sondern die Ideen sollen gemeinsam gefasst und umgesetzt werden. Dabei sind die Möglichkeiten sehr breit: Gemeinsames Backen von Plätzchen zur Adventszeit\, Herstellung von Weihnachts- und Osterdekoration\, Gartentipps austauschen und gemeinsame Handarbeitsabende sind nur die ersten Anregungen. \nDie Treffen finden immer am letzten Donnerstag im Monat statt.\nDu hast Interesse? Dann melde dich bei Ines Leipziger (Tel.: 0157 72 70 34 14) oder komme einfach vorbei.
URL:https://mein-mosel.de/event/moseler-landfrauen-3/
LOCATION:Rathaus Mosel\, Dänkritzer Straße 21\, Mosel
ATTACH;FMTTYPE=image/jpeg:https://mein-mosel.de/wp-content/uploads/2022/06/Landfrauen-1.jpg
END:VEVENT
BEGIN:VEVENT
DTSTART;TZID=Europe/Berlin:20231104T103000
DTEND;TZID=Europe/Berlin:20231104T140000
DTSTAMP:20260422T025608
CREATED:20231026T171623Z
LAST-MODIFIED:20231026T171623Z
UID:4796-1699093800-1699106400@mein-mosel.de
SUMMARY:Herbstputz
DESCRIPTION:
URL:https://mein-mosel.de/event/herbstputz-2/
LOCATION:Rathaus Mosel\, Dänkritzer Straße 21\, Mosel
ATTACH;FMTTYPE=image/jpeg:https://mein-mosel.de/wp-content/uploads/2023/10/WhatsApp-Bild-2023-10-26-um-20.54.02_dea4f198.jpg
ORGANIZER;CN="Ortschaftsrat Mosel":MAILTO:melanie.braendel@zwickau.de
END:VEVENT
BEGIN:VEVENT
DTSTART;TZID=Europe/Berlin:20231107T150000
DTEND;TZID=Europe/Berlin:20231107T170000
DTSTAMP:20260422T025608
CREATED:20231019T195442Z
LAST-MODIFIED:20231019T195442Z
UID:4778-1699369200-1699376400@mein-mosel.de
SUMMARY:Seniorennachmittag
DESCRIPTION:
URL:https://mein-mosel.de/event/seniorennachmittag-2/
LOCATION:Rathaus Mosel\, Dänkritzer Straße 21\, Mosel
ORGANIZER;CN="Ortschaftsrat Mosel":MAILTO:melanie.braendel@zwickau.de
END:VEVENT
BEGIN:VEVENT
DTSTART;TZID=Europe/Berlin:20231110T173000
DTEND;TZID=Europe/Berlin:20231110T230000
DTSTAMP:20260422T025608
CREATED:20231019T194922Z
LAST-MODIFIED:20231019T194922Z
UID:4776-1699637400-1699657200@mein-mosel.de
SUMMARY:Laternen basteln
DESCRIPTION:
URL:https://mein-mosel.de/event/laternen-basteln/
LOCATION:Rathaus Mosel\, Dänkritzer Straße 21\, Mosel
CATEGORIES:LandJugend
END:VEVENT
BEGIN:VEVENT
DTSTART;TZID=Europe/Berlin:20231111T173000
DTEND;TZID=Europe/Berlin:20231111T210000
DTSTAMP:20260422T025608
CREATED:20231019T195856Z
LAST-MODIFIED:20231019T200925Z
UID:4781-1699723800-1699736400@mein-mosel.de
SUMMARY:Martinsumzug
DESCRIPTION:
URL:https://mein-mosel.de/event/martinsumzug-2/
LOCATION:Kirche Mosel\, Kirchweg 1\, Mosel\, 08058
ATTACH;FMTTYPE=image/png:https://mein-mosel.de/wp-content/uploads/2023/10/plakat-2023.png
END:VEVENT
BEGIN:VEVENT
DTSTART;TZID=Europe/Berlin:20231112T160000
DTEND;TZID=Europe/Berlin:20231112T170000
DTSTAMP:20260422T025608
CREATED:20231019T073048Z
LAST-MODIFIED:20231025T144838Z
UID:4729-1699804800-1699808400@mein-mosel.de
SUMMARY:Matthäuskirche Zwickau-Bockwa
DESCRIPTION:Jetzt Karte buchen \n 
URL:https://mein-mosel.de/event/mathaeuskirche-zwickau-bockwa/
LOCATION:Matthäuskirche Zwickau-Bockwa\, Muldestraße 19\, Zwickau\, Sachsen\, 08056
CATEGORIES:Der Traumzauberbaum
ATTACH;FMTTYPE=image/jpeg:https://mein-mosel.de/wp-content/uploads/2023/10/quer.jpg
END:VEVENT
BEGIN:VEVENT
DTSTART;TZID=Europe/Berlin:20231102T190000
DTEND;TZID=Europe/Berlin:20231102T220000
DTSTAMP:20260422T025608
CREATED:20231019T194652Z
LAST-MODIFIED:20231019T194652Z
UID:4774-1698951600-1698962400@mein-mosel.de
SUMMARY:Moseler LandFrauen
DESCRIPTION:Bei den LandFrauen wird Miteinander großgeschrieben. Sie bringen Farbe ins Dorfleben und gelten als Macherinnen. Traditionelles erhalten und offen sein für Neues. Es gibt erst mal kein festes Programm sondern die Ideen sollen gemeinsam gefasst und umgesetzt werden. Dabei sind die Möglichkeiten sehr breit: Gemeinsames Backen von Plätzchen zur Adventszeit\, Herstellung von Weihnachts- und Osterdekoration\, Gartentipps austauschen und gemeinsame Handarbeitsabende sind nur die ersten Anregungen. \nDie Treffen finden immer am letzten Donnerstag im Monat statt.\nDu hast Interesse? Dann melde dich bei Ines Leipziger (Tel.: 0157 72 70 34 14) oder komme einfach vorbei.
URL:https://mein-mosel.de/event/moseler-landfrauen-3/
LOCATION:Rathaus Mosel\, Dänkritzer Straße 21\, Mosel
ATTACH;FMTTYPE=image/jpeg:https://mein-mosel.de/wp-content/uploads/2022/06/Landfrauen-1.jpg
END:VEVENT
BEGIN:VEVENT
DTSTART;TZID=Europe/Berlin:20231118T170000
DTEND;TZID=Europe/Berlin:20231118T190000
DTSTAMP:20260422T025608
CREATED:20231019T071422Z
LAST-MODIFIED:20231019T173120Z
UID:4722-1700326800-1700334000@mein-mosel.de
SUMMARY:Sachsenlandhalle Glauchau
DESCRIPTION:Jetzt Karten buchen
URL:https://mein-mosel.de/event/der-traumzauberbaum/
LOCATION:Sachsenlandhalle Glauchau\, An der Sachsenlandhalle 3\, Glauchau\, Sachsen\, 08371\, Deutschland
CATEGORIES:Der Traumzauberbaum
ATTACH;FMTTYPE=image/jpeg:https://mein-mosel.de/wp-content/uploads/2023/10/quer.jpg
END:VEVENT
BEGIN:VEVENT
DTSTART;TZID=Europe/Berlin:20231102T190000
DTEND;TZID=Europe/Berlin:20231102T220000
DTSTAMP:20260422T025608
CREATED:20231019T194652Z
LAST-MODIFIED:20231019T194652Z
UID:4774-1698951600-1698962400@mein-mosel.de
SUMMARY:Moseler LandFrauen
DESCRIPTION:Bei den LandFrauen wird Miteinander großgeschrieben. Sie bringen Farbe ins Dorfleben und gelten als Macherinnen. Traditionelles erhalten und offen sein für Neues. Es gibt erst mal kein festes Programm sondern die Ideen sollen gemeinsam gefasst und umgesetzt werden. Dabei sind die Möglichkeiten sehr breit: Gemeinsames Backen von Plätzchen zur Adventszeit\, Herstellung von Weihnachts- und Osterdekoration\, Gartentipps austauschen und gemeinsame Handarbeitsabende sind nur die ersten Anregungen. \nDie Treffen finden immer am letzten Donnerstag im Monat statt.\nDu hast Interesse? Dann melde dich bei Ines Leipziger (Tel.: 0157 72 70 34 14) oder komme einfach vorbei.
URL:https://mein-mosel.de/event/moseler-landfrauen-3/
LOCATION:Rathaus Mosel\, Dänkritzer Straße 21\, Mosel
ATTACH;FMTTYPE=image/jpeg:https://mein-mosel.de/wp-content/uploads/2022/06/Landfrauen-1.jpg
END:VEVENT
END:VCALENDAR