BEGIN:VCALENDAR
VERSION:2.0
PRODID:-//Mein Mosel - ECPv6.15.20//NONSGML v1.0//EN
CALSCALE:GREGORIAN
METHOD:PUBLISH
X-ORIGINAL-URL:https://mein-mosel.de
X-WR-CALDESC:Veranstaltungen für Mein Mosel
REFRESH-INTERVAL;VALUE=DURATION:PT1H
X-Robots-Tag:noindex
X-PUBLISHED-TTL:PT1H
BEGIN:VTIMEZONE
TZID:Europe/Berlin
BEGIN:DAYLIGHT
TZOFFSETFROM:+0100
TZOFFSETTO:+0200
TZNAME:CEST
DTSTART:20210328T010000
END:DAYLIGHT
BEGIN:STANDARD
TZOFFSETFROM:+0200
TZOFFSETTO:+0100
TZNAME:CET
DTSTART:20211031T010000
END:STANDARD
BEGIN:DAYLIGHT
TZOFFSETFROM:+0100
TZOFFSETTO:+0200
TZNAME:CEST
DTSTART:20220327T010000
END:DAYLIGHT
BEGIN:STANDARD
TZOFFSETFROM:+0200
TZOFFSETTO:+0100
TZNAME:CET
DTSTART:20221030T010000
END:STANDARD
BEGIN:DAYLIGHT
TZOFFSETFROM:+0100
TZOFFSETTO:+0200
TZNAME:CEST
DTSTART:20230326T010000
END:DAYLIGHT
BEGIN:STANDARD
TZOFFSETFROM:+0200
TZOFFSETTO:+0100
TZNAME:CET
DTSTART:20231029T010000
END:STANDARD
END:VTIMEZONE
BEGIN:VEVENT
DTSTART;TZID=Europe/Berlin:20220425T170000
DTEND;TZID=Europe/Berlin:20220425T200000
DTSTAMP:20260423T024412
CREATED:20220412T165627Z
LAST-MODIFIED:20220504T070145Z
UID:2973-1650906000-1650916800@mein-mosel.de
SUMMARY:Rommé-Club
DESCRIPTION:Unsere Leidenschaft gehört dem Rommé-Spiel. Dazu tauschen wir bei einem guten Kaffee unsere Erlebnisse und Ereignisse der vergangenen Woche aus. Neue Mitglieder sind uns herzlich willkommen.
URL:https://mein-mosel.de/event/romme-club/
LOCATION:Rathaus Mosel\, Dänkritzer Straße 21\, Mosel
ATTACH;FMTTYPE=image/jpeg:https://mein-mosel.de/wp-content/uploads/2022/05/Kartenspiel.jpg
END:VEVENT
BEGIN:VEVENT
DTSTART;TZID=Europe/Berlin:20220503T110000
DTEND;TZID=Europe/Berlin:20220503T143000
DTSTAMP:20260423T024412
CREATED:20220505T062810Z
LAST-MODIFIED:20220505T063944Z
UID:3372-1651575600-1651588200@mein-mosel.de
SUMMARY:Sprechstunde im Rathaus
DESCRIPTION:Öffentliche Sprechstunde des Ortschaftsrates und der Ortsvorsteherin für die Bürger von Mosel.
URL:https://mein-mosel.de/event/sprechstunde-im-rathaus/
LOCATION:Rathaus Mosel\, Dänkritzer Straße 21\, Mosel
ATTACH;FMTTYPE=image/jpeg:https://mein-mosel.de/wp-content/uploads/2022/05/Sprechstunde_Ortschaftsrat.jpg
END:VEVENT
BEGIN:VEVENT
DTSTART;TZID=Europe/Berlin:20220503T170000
DTEND;TZID=Europe/Berlin:20220503T190000
DTSTAMP:20260423T024412
CREATED:20220504T065302Z
LAST-MODIFIED:20220505T062943Z
UID:3212-1651597200-1651604400@mein-mosel.de
SUMMARY:Bibliothek im Rathaus Mosel
DESCRIPTION:Die Stadtteil-Bibliothek hält für Jung und Alt viele aktuelle Bücher und Spiele bereit.
URL:https://mein-mosel.de/event/bibliothek-im-rathaus-mosel/
LOCATION:Rathaus Mosel\, Dänkritzer Straße 21\, Mosel
ATTACH;FMTTYPE=image/jpeg:https://mein-mosel.de/wp-content/uploads/2022/05/Bibliothek_Mosel.jpg
END:VEVENT
BEGIN:VEVENT
DTSTART;TZID=Europe/Berlin:20220427T220000
DTEND;TZID=Europe/Berlin:20220427T230000
DTSTAMP:20260423T024412
CREATED:20220412T171746Z
LAST-MODIFIED:20220504T071355Z
UID:2989-1651096800-1651100400@mein-mosel.de
SUMMARY:SV Powerfrauen
DESCRIPTION:Wir trainieren mittwochs von 20 bis 21 Uhr in der Sporthalle Mosel. Im 14-tägigen Rhythmus werden die Übungsstunden von einer ausgebildeten Physiotherapeutin geleitet\, die uns ordentlich fordert. In den Wochen dazwischen trainieren wir in Eigenregie\, weil uns im Moment ein zertifizierter Übungsleiter fehlt. Das heißt aber nicht\, dass wir uns an diesen Tagen ausruhen. Mit Gymnastik\, Step Aerobic\, Stationstraining\, Stretching oder auch einmal Federball spielen werden die Übungsstunden abwechslungsreich gestaltet.
URL:https://mein-mosel.de/event/sv-powerfrauen-3/
LOCATION:Sporthalle Mosel\, Altenburger Straße 71\, Zwickau\, Sachsen\, 08058\, Deutschland
ATTACH;FMTTYPE=image/png:https://mein-mosel.de/wp-content/uploads/2022/05/SV_Powerfrauen.png
END:VEVENT
BEGIN:VEVENT
DTSTART;TZID=Europe/Berlin:20220425T170000
DTEND;TZID=Europe/Berlin:20220425T200000
DTSTAMP:20260423T024412
CREATED:20220412T165627Z
LAST-MODIFIED:20220504T070145Z
UID:2973-1650906000-1650916800@mein-mosel.de
SUMMARY:Rommé-Club
DESCRIPTION:Unsere Leidenschaft gehört dem Rommé-Spiel. Dazu tauschen wir bei einem guten Kaffee unsere Erlebnisse und Ereignisse der vergangenen Woche aus. Neue Mitglieder sind uns herzlich willkommen.
URL:https://mein-mosel.de/event/romme-club/
LOCATION:Rathaus Mosel\, Dänkritzer Straße 21\, Mosel
ATTACH;FMTTYPE=image/jpeg:https://mein-mosel.de/wp-content/uploads/2022/05/Kartenspiel.jpg
END:VEVENT
BEGIN:VEVENT
DTSTART;TZID=Europe/Berlin:20220503T110000
DTEND;TZID=Europe/Berlin:20220503T143000
DTSTAMP:20260423T024412
CREATED:20220505T062810Z
LAST-MODIFIED:20220505T063944Z
UID:3372-1651575600-1651588200@mein-mosel.de
SUMMARY:Sprechstunde im Rathaus
DESCRIPTION:Öffentliche Sprechstunde des Ortschaftsrates und der Ortsvorsteherin für die Bürger von Mosel.
URL:https://mein-mosel.de/event/sprechstunde-im-rathaus/
LOCATION:Rathaus Mosel\, Dänkritzer Straße 21\, Mosel
ATTACH;FMTTYPE=image/jpeg:https://mein-mosel.de/wp-content/uploads/2022/05/Sprechstunde_Ortschaftsrat.jpg
END:VEVENT
BEGIN:VEVENT
DTSTART;TZID=Europe/Berlin:20220503T170000
DTEND;TZID=Europe/Berlin:20220503T190000
DTSTAMP:20260423T024412
CREATED:20220504T065302Z
LAST-MODIFIED:20220505T062943Z
UID:3212-1651597200-1651604400@mein-mosel.de
SUMMARY:Bibliothek im Rathaus Mosel
DESCRIPTION:Die Stadtteil-Bibliothek hält für Jung und Alt viele aktuelle Bücher und Spiele bereit.
URL:https://mein-mosel.de/event/bibliothek-im-rathaus-mosel/
LOCATION:Rathaus Mosel\, Dänkritzer Straße 21\, Mosel
ATTACH;FMTTYPE=image/jpeg:https://mein-mosel.de/wp-content/uploads/2022/05/Bibliothek_Mosel.jpg
END:VEVENT
BEGIN:VEVENT
DTSTART;TZID=Europe/Berlin:20220427T220000
DTEND;TZID=Europe/Berlin:20220427T230000
DTSTAMP:20260423T024412
CREATED:20220412T171746Z
LAST-MODIFIED:20220504T071355Z
UID:2989-1651096800-1651100400@mein-mosel.de
SUMMARY:SV Powerfrauen
DESCRIPTION:Wir trainieren mittwochs von 20 bis 21 Uhr in der Sporthalle Mosel. Im 14-tägigen Rhythmus werden die Übungsstunden von einer ausgebildeten Physiotherapeutin geleitet\, die uns ordentlich fordert. In den Wochen dazwischen trainieren wir in Eigenregie\, weil uns im Moment ein zertifizierter Übungsleiter fehlt. Das heißt aber nicht\, dass wir uns an diesen Tagen ausruhen. Mit Gymnastik\, Step Aerobic\, Stationstraining\, Stretching oder auch einmal Federball spielen werden die Übungsstunden abwechslungsreich gestaltet.
URL:https://mein-mosel.de/event/sv-powerfrauen-3/
LOCATION:Sporthalle Mosel\, Altenburger Straße 71\, Zwickau\, Sachsen\, 08058\, Deutschland
ATTACH;FMTTYPE=image/png:https://mein-mosel.de/wp-content/uploads/2022/05/SV_Powerfrauen.png
END:VEVENT
BEGIN:VEVENT
DTSTART;TZID=Europe/Berlin:20220714T200000
DTEND;TZID=Europe/Berlin:20220714T230000
DTSTAMP:20260423T024412
CREATED:20220622T095111Z
LAST-MODIFIED:20220726T041140Z
UID:3690-1657828800-1657839600@mein-mosel.de
SUMMARY:Moseler LandFrauen
DESCRIPTION:Bei den LandFrauen wird Miteinander großgeschrieben. Sie bringen Farbe ins Dorfleben und gelten als Macherinnen. Traditionelles erhalten und offen sein für Neues. Es gibt erst mal kein festes Programm sondern die Ideen sollen gemeinsam gefasst und umgesetzt werden. Dabei sind die Möglichkeiten sehr breit: Gemeinsames Backen von Plätzchen zur Adventszeit\, Herstellung von Weihnachts- und Osterdekoration\, Gartentipps austauschen und gemeinsame Handarbeitsabende sind nur die ersten Anregungen. \nDie Treffen finden immer am letzten Donnerstag im Monat statt.\nDu hast Interesse? Dann melde dich bei Ines Leipziger (Tel.: 0157 72 70 34 14) oder komme einfach vorbei.
URL:https://mein-mosel.de/event/moseler-landfrauen/
LOCATION:Rathaus Mosel\, Dänkritzer Straße 21\, Mosel
ATTACH;FMTTYPE=image/jpeg:https://mein-mosel.de/wp-content/uploads/2022/06/Landfrauen-1.jpg
END:VEVENT
BEGIN:VEVENT
DTSTART;TZID=Europe/Berlin:20220425T170000
DTEND;TZID=Europe/Berlin:20220425T200000
DTSTAMP:20260423T024412
CREATED:20220412T165627Z
LAST-MODIFIED:20220504T070145Z
UID:2973-1650906000-1650916800@mein-mosel.de
SUMMARY:Rommé-Club
DESCRIPTION:Unsere Leidenschaft gehört dem Rommé-Spiel. Dazu tauschen wir bei einem guten Kaffee unsere Erlebnisse und Ereignisse der vergangenen Woche aus. Neue Mitglieder sind uns herzlich willkommen.
URL:https://mein-mosel.de/event/romme-club/
LOCATION:Rathaus Mosel\, Dänkritzer Straße 21\, Mosel
ATTACH;FMTTYPE=image/jpeg:https://mein-mosel.de/wp-content/uploads/2022/05/Kartenspiel.jpg
END:VEVENT
BEGIN:VEVENT
DTSTART;TZID=Europe/Berlin:20220503T110000
DTEND;TZID=Europe/Berlin:20220503T143000
DTSTAMP:20260423T024412
CREATED:20220505T062810Z
LAST-MODIFIED:20220505T063944Z
UID:3372-1651575600-1651588200@mein-mosel.de
SUMMARY:Sprechstunde im Rathaus
DESCRIPTION:Öffentliche Sprechstunde des Ortschaftsrates und der Ortsvorsteherin für die Bürger von Mosel.
URL:https://mein-mosel.de/event/sprechstunde-im-rathaus/
LOCATION:Rathaus Mosel\, Dänkritzer Straße 21\, Mosel
ATTACH;FMTTYPE=image/jpeg:https://mein-mosel.de/wp-content/uploads/2022/05/Sprechstunde_Ortschaftsrat.jpg
END:VEVENT
BEGIN:VEVENT
DTSTART;TZID=Europe/Berlin:20220503T170000
DTEND;TZID=Europe/Berlin:20220503T190000
DTSTAMP:20260423T024412
CREATED:20220504T065302Z
LAST-MODIFIED:20220505T062943Z
UID:3212-1651597200-1651604400@mein-mosel.de
SUMMARY:Bibliothek im Rathaus Mosel
DESCRIPTION:Die Stadtteil-Bibliothek hält für Jung und Alt viele aktuelle Bücher und Spiele bereit.
URL:https://mein-mosel.de/event/bibliothek-im-rathaus-mosel/
LOCATION:Rathaus Mosel\, Dänkritzer Straße 21\, Mosel
ATTACH;FMTTYPE=image/jpeg:https://mein-mosel.de/wp-content/uploads/2022/05/Bibliothek_Mosel.jpg
END:VEVENT
BEGIN:VEVENT
DTSTART;TZID=Europe/Berlin:20220427T220000
DTEND;TZID=Europe/Berlin:20220427T230000
DTSTAMP:20260423T024412
CREATED:20220412T171746Z
LAST-MODIFIED:20220504T071355Z
UID:2989-1651096800-1651100400@mein-mosel.de
SUMMARY:SV Powerfrauen
DESCRIPTION:Wir trainieren mittwochs von 20 bis 21 Uhr in der Sporthalle Mosel. Im 14-tägigen Rhythmus werden die Übungsstunden von einer ausgebildeten Physiotherapeutin geleitet\, die uns ordentlich fordert. In den Wochen dazwischen trainieren wir in Eigenregie\, weil uns im Moment ein zertifizierter Übungsleiter fehlt. Das heißt aber nicht\, dass wir uns an diesen Tagen ausruhen. Mit Gymnastik\, Step Aerobic\, Stationstraining\, Stretching oder auch einmal Federball spielen werden die Übungsstunden abwechslungsreich gestaltet.
URL:https://mein-mosel.de/event/sv-powerfrauen-3/
LOCATION:Sporthalle Mosel\, Altenburger Straße 71\, Zwickau\, Sachsen\, 08058\, Deutschland
ATTACH;FMTTYPE=image/png:https://mein-mosel.de/wp-content/uploads/2022/05/SV_Powerfrauen.png
END:VEVENT
BEGIN:VEVENT
DTSTART;TZID=Europe/Berlin:20220425T170000
DTEND;TZID=Europe/Berlin:20220425T200000
DTSTAMP:20260423T024412
CREATED:20220412T165627Z
LAST-MODIFIED:20220504T070145Z
UID:2973-1650906000-1650916800@mein-mosel.de
SUMMARY:Rommé-Club
DESCRIPTION:Unsere Leidenschaft gehört dem Rommé-Spiel. Dazu tauschen wir bei einem guten Kaffee unsere Erlebnisse und Ereignisse der vergangenen Woche aus. Neue Mitglieder sind uns herzlich willkommen.
URL:https://mein-mosel.de/event/romme-club/
LOCATION:Rathaus Mosel\, Dänkritzer Straße 21\, Mosel
ATTACH;FMTTYPE=image/jpeg:https://mein-mosel.de/wp-content/uploads/2022/05/Kartenspiel.jpg
END:VEVENT
BEGIN:VEVENT
DTSTART;TZID=Europe/Berlin:20220503T110000
DTEND;TZID=Europe/Berlin:20220503T143000
DTSTAMP:20260423T024412
CREATED:20220505T062810Z
LAST-MODIFIED:20220505T063944Z
UID:3372-1651575600-1651588200@mein-mosel.de
SUMMARY:Sprechstunde im Rathaus
DESCRIPTION:Öffentliche Sprechstunde des Ortschaftsrates und der Ortsvorsteherin für die Bürger von Mosel.
URL:https://mein-mosel.de/event/sprechstunde-im-rathaus/
LOCATION:Rathaus Mosel\, Dänkritzer Straße 21\, Mosel
ATTACH;FMTTYPE=image/jpeg:https://mein-mosel.de/wp-content/uploads/2022/05/Sprechstunde_Ortschaftsrat.jpg
END:VEVENT
BEGIN:VEVENT
DTSTART;TZID=Europe/Berlin:20220503T170000
DTEND;TZID=Europe/Berlin:20220503T190000
DTSTAMP:20260423T024412
CREATED:20220504T065302Z
LAST-MODIFIED:20220505T062943Z
UID:3212-1651597200-1651604400@mein-mosel.de
SUMMARY:Bibliothek im Rathaus Mosel
DESCRIPTION:Die Stadtteil-Bibliothek hält für Jung und Alt viele aktuelle Bücher und Spiele bereit.
URL:https://mein-mosel.de/event/bibliothek-im-rathaus-mosel/
LOCATION:Rathaus Mosel\, Dänkritzer Straße 21\, Mosel
ATTACH;FMTTYPE=image/jpeg:https://mein-mosel.de/wp-content/uploads/2022/05/Bibliothek_Mosel.jpg
END:VEVENT
BEGIN:VEVENT
DTSTART;TZID=Europe/Berlin:20220427T220000
DTEND;TZID=Europe/Berlin:20220427T230000
DTSTAMP:20260423T024412
CREATED:20220412T171746Z
LAST-MODIFIED:20220504T071355Z
UID:2989-1651096800-1651100400@mein-mosel.de
SUMMARY:SV Powerfrauen
DESCRIPTION:Wir trainieren mittwochs von 20 bis 21 Uhr in der Sporthalle Mosel. Im 14-tägigen Rhythmus werden die Übungsstunden von einer ausgebildeten Physiotherapeutin geleitet\, die uns ordentlich fordert. In den Wochen dazwischen trainieren wir in Eigenregie\, weil uns im Moment ein zertifizierter Übungsleiter fehlt. Das heißt aber nicht\, dass wir uns an diesen Tagen ausruhen. Mit Gymnastik\, Step Aerobic\, Stationstraining\, Stretching oder auch einmal Federball spielen werden die Übungsstunden abwechslungsreich gestaltet.
URL:https://mein-mosel.de/event/sv-powerfrauen-3/
LOCATION:Sporthalle Mosel\, Altenburger Straße 71\, Zwickau\, Sachsen\, 08058\, Deutschland
ATTACH;FMTTYPE=image/png:https://mein-mosel.de/wp-content/uploads/2022/05/SV_Powerfrauen.png
END:VEVENT
BEGIN:VEVENT
DTSTART;TZID=Europe/Berlin:20220728T200000
DTEND;TZID=Europe/Berlin:20220728T230000
DTSTAMP:20260423T024412
CREATED:20221017T133915Z
LAST-MODIFIED:20221017T133915Z
UID:3953-1659038400-1659049200@mein-mosel.de
SUMMARY:Moseler LandFrauen
DESCRIPTION:Bei den LandFrauen wird Miteinander großgeschrieben. Sie bringen Farbe ins Dorfleben und gelten als Macherinnen. Traditionelles erhalten und offen sein für Neues. Es gibt erst mal kein festes Programm sondern die Ideen sollen gemeinsam gefasst und umgesetzt werden. Dabei sind die Möglichkeiten sehr breit: Gemeinsames Backen von Plätzchen zur Adventszeit\, Herstellung von Weihnachts- und Osterdekoration\, Gartentipps austauschen und gemeinsame Handarbeitsabende sind nur die ersten Anregungen. \nDie Treffen finden immer am letzten Donnerstag im Monat statt.\nDu hast Interesse? Dann melde dich bei Ines Leipziger (Tel.: 0157 72 70 34 14) oder komme einfach vorbei.
URL:https://mein-mosel.de/event/moseler-landfrauen/
LOCATION:Rathaus Mosel\, Dänkritzer Straße 21\, Mosel
ATTACH;FMTTYPE=image/jpeg:https://mein-mosel.de/wp-content/uploads/2022/06/Landfrauen-1.jpg
END:VEVENT
END:VCALENDAR